BEGIN:VCALENDAR
VERSION:2.0
X-WR-TIMEZONE:America/Guadeloupe
CALSCALE:GREGORIAN
PRODID:-//IPEOS/Calendar//NONSGML v1.0//FR
X-WR-CALNAME;VALUE=TEXT:Ville du Gosier - Guadeloupe - Léwòz koudmen épi Mas A Yo 
X-WR-CALDESC: Rendez-vous lundi 26 mai à partir de 21h au local du groupe Mas A Yo à Dampierre pour commémorer ensemble l’abolition de l’esclavage.    De nombreux maîtres ka du gwo ka seront présents.   Restauration et bar sur site.   Contact : 0690 29 75 92 
X-WR-RELCALID:vivre-au-gosier/vie-associative-et-des-quartiers/actualites-associatives/article/lewoz-koudmen-epi-mas-a-yo
BEGIN:VEVENT
SUMMARY:Léwòz koudmen épi Mas A Yo 
UID:evenement2320 @ https://www.villedugosier.fr
DTSTAMP:20250526T161218Z
DTSTART:20250527T010000Z
DTEND:20250527T033000Z
CREATED:20250526T161218Z
LAST-MODIFIED:20250526T201218Z 
LOCATION:Local de l'association Restan la\, impasse Pierre-Justin Dampierre\, RN4\, Gosier
DESCRIPTION:Rendez-vous lundi 26 mai à partir de 21h au local du groupe Mas A Yo à Dampierre pour commémorer ensemble l’abolition de l’esclavage. De nombreux maîtres ka du gwo ka seront présents. Restauration et bar sur site. Contact : 0690 29 75 92
CATEGORIES:Léwòz koudmen épi Mas A Yo 
URL:https://www.villedugosier.fr/vivre-au-gosier/vie-associative-et-des-quartiers/actualites-associatives/article/lewoz-koudmen-epi-mas-a-yo?id_evenement=2320

STATUS:CONFIRMED
END:VEVENT
END:VCALENDAR

