BEGIN:VCALENDAR
VERSION:2.0
X-WR-TIMEZONE:America/Guadeloupe
CALSCALE:GREGORIAN
PRODID:-//IPEOS/Calendar//NONSGML v1.0//FR
X-WR-CALNAME;VALUE=TEXT:Ville du Gosier - Guadeloupe - L’histoire du Gosier en témoignages
X-WR-CALDESC: Dans le cadre de ce mois de mai consacré à la mémoire de nos ancêtres\, l’association Mieux vivre à Mathurin invite les passionnés d’histoire et de patrimoine à participer à une rencontre sur l’histoire de la commune du Gosier\, le samedi 31 mai 2025 à 18h30 au local de l’association situé à Mathurin.    Venez écouter les témoignages de Marceau CLAUDE\, Edmond SAINSILY\, Franceska CLÉRENCE et divers membres de l’association des anciens combattants. Cette rencontre sera animée et modérée par (…) 
X-WR-RELCALID:vivre-au-gosier/vie-associative-et-des-quartiers/actualites-associatives/article/l-histoire-du-gosier-en-temoignages
BEGIN:VEVENT
SUMMARY:L'histoire du Gosier en témoignages
UID:evenement2326 @ https://www.villedugosier.fr
DTSTAMP:20250530T151345Z
DTSTART:20250531T223000Z
DTEND:20250601T003000Z
CREATED:20250530T151345Z
LAST-MODIFIED:20250530T191406Z 
LOCATION:Local de l'association\, Mathurin (géolocalisation indiquée)
DESCRIPTION:Dans le cadre de ce mois de mai consacré à la mémoire de nos ancêtres\, l’association Mieux vivre à Mathurin invite les passionnés d’histoire et de patrimoine à participer à une rencontre sur l’histoire de la commune du Gosier\, le samedi 31 mai 2025 à 18h30 au local de l’association situé à Mathurin. Venez écouter les témoignages de Marceau CLAUDE\, Edmond SAINSILY\, Franceska CLÉRENCE et divers membres de l’association des anciens combattants. Cette rencontre sera animée et modérée par Eliane SEMPAIRE\, historienne. Contact : 0690 91 03 21 • association.mvm971 chez yahoo.fr Géolocalisation du local de l’association via Waze : https://waze.com/ul/hdduk2ehex
CATEGORIES:L'histoire du Gosier en témoignages
URL:https://www.villedugosier.fr/vivre-au-gosier/vie-associative-et-des-quartiers/actualites-associatives/article/l-histoire-du-gosier-en-temoignages?id_evenement=2326

STATUS:CONFIRMED
END:VEVENT
END:VCALENDAR

