BEGIN:VCALENDAR
VERSION:2.0
X-WR-TIMEZONE:America/Guadeloupe
CALSCALE:GREGORIAN
PRODID:-//IPEOS/Calendar//NONSGML v1.0//FR
X-WR-CALNAME;VALUE=TEXT:Ville du Gosier - Guadeloupe - Séance du Conseil municipal du 4 juin 2025 à 7h30
X-WR-CALDESC: Le Conseil municipal se réunit en 14ème séance ordinaire le mercredi 4 juin 2025 à 7h30\, à la salle du conseil\, mairie du Gosier.  Cette séance fait suite à l’absence de quorum à la séance du conseil municipal du 30 mai 2025 à 11h15.    L’ordre du jour est le suivant :   1. Délégations au maire en vertu de l’article L.2122-22 du Code Général des Collectivités Territoriales ;  2. Autorisation du Conseil municipal donnée au maire de solliciter une deuxième tranche d’un emprunt à l’agence (…) 
X-WR-RELCALID:services-demarches/le-conseil-municipal/les-seances-du-conseil-municipal/article/9171
BEGIN:VEVENT
SUMMARY:Séance du Conseil municipal du 4 juin 2025 à 7h30
UID:evenement2328 @ https://www.villedugosier.fr
DTSTAMP:20250530T192038Z
DTSTART:20250604T113000Z
DTEND:20250604T130000Z
CREATED:20250530T192038Z
LAST-MODIFIED:20250530T232038Z 
LOCATION:Salle du conseil\, mairie du Gosier
DESCRIPTION:Le Conseil municipal se réunit en 14ème séance ordinaire le mercredi 4 juin 2025 à 7h30\, à la salle du conseil\, mairie du Gosier. Cette séance fait suite à l’absence de quorum à la séance du conseil municipal du 30 mai 2025 à 11h15. L’ordre du jour est le suivant : 1. Délégations au maire en vertu de l’article L.2122-22 du Code Général des Collectivités Territoriales ; 2. Autorisation du Conseil municipal donnée au maire de solliciter une deuxième tranche d’un emprunt à l’agence française de développement (AFD) ; 3. Autorisation donnée au maire de solliciter et de contracter un emprunt au titre du budget 2025 de la Ville ; 4. Autorisation donnée au maire de solliciter des financements dans le cadre du projet de couverture du terrain de basket de Belle-Plaine. La séance est publique
CATEGORIES:Séance du Conseil municipal du 4 juin 2025 à 7h30
URL:https://www.villedugosier.fr/services-demarches/le-conseil-municipal/les-seances-du-conseil-municipal/article/9171?id_evenement=2328

STATUS:CONFIRMED
END:VEVENT
END:VCALENDAR

