BEGIN:VCALENDAR
VERSION:2.0
X-WR-TIMEZONE:America/Guadeloupe
CALSCALE:GREGORIAN
PRODID:-//IPEOS/Calendar//NONSGML v1.0//FR
X-WR-CALNAME;VALUE=TEXT:Ville du Gosier - Guadeloupe - Portes ouvertes du REP LEAP de Montauban
X-WR-CALDESC: En partenariat avec la Ville du Gosier et la CAF de Guadeloupe\, le Relais Enfants Parents et le Lieu d’Accueil Enfants Parents (REP LAEP) de Montauban\, organise une journée portes ouvertes le mercredi 25 juin 2025\, au centre multi-accueil de Montauban\, au Gosier.    L’occasion de préparer les parents et les enfants au passage dans la grande école et à les sensibiliser à la diversification alimentaire notamment.  Programme 9h Accueil du public 9h30 - 11h Atelier d’échanges avec Mme Aurore (…) 
X-WR-RELCALID:vivre-au-gosier/education-enfance/actualites/article/portes-ouvertes-du-rep-leap-de-montauban
BEGIN:VEVENT
SUMMARY:Portes ouvertes du REP LEAP de Montauban
UID:evenement2364 @ https://www.villedugosier.fr
DTSTAMP:20250618T165621Z
DTSTART:20250625T130000Z
DTEND:20250625T210000Z
CREATED:20250618T165621Z
LAST-MODIFIED:20250618T205827Z 
LOCATION:Centre multi-accueil de Montauban\, Le Gosier
DESCRIPTION:En partenariat avec la Ville du Gosier et la CAF de Guadeloupe\, le Relais Enfants Parents et le Lieu d’Accueil Enfants Parents (REP LAEP) de Montauban\, organise une journée portes ouvertes le mercredi 25 juin 2025. L’occasion de préparer les parents et les enfants au passage dans la grande école et à les sensibiliser à la diversification alimentaire notamment. Programme 9h Accueil du public 9h30 - 11h Atelier d’échanges avec Mme Aurore BRISE consultante en parentalité sur le thème " Parents /enfants c’est la rentrée scolaire mettons nous dans l’ambiance" 11h15 - 12h15 Atelier danse/zumba avec Mme Audrey GASPARD 14h15 - 15h45 Atelier d’échanges avec Mme Audrey-Jessica PITER\, diététicienne nutritionniste sur le thème "La diversification alimentaire bien manger pour bien grandir" 15h45 - 17h Animation libre
CATEGORIES:Portes ouvertes du REP LEAP de Montauban
URL:https://www.villedugosier.fr/vivre-au-gosier/education-enfance/actualites/article/portes-ouvertes-du-rep-leap-de-montauban?id_evenement=2364

STATUS:CONFIRMED
END:VEVENT
END:VCALENDAR

