BEGIN:VCALENDAR
VERSION:2.0
X-WR-TIMEZONE:America/Guadeloupe
CALSCALE:GREGORIAN
PRODID:-//IPEOS/Calendar//NONSGML v1.0//FR
X-WR-CALNAME;VALUE=TEXT:Ville du Gosier - Guadeloupe - Le Gosier s’anime pendant toutes les vacances avec “Vakans O Gozyé”  
X-WR-CALDESC: Dans le cadre du dispositif « J’aime ma ville\, je l’anime »\, la programmation de l’opération “Vakans O Gozyé” se poursuit jusqu’au 25 août 2025 sur l’ensemble du territoire communal. Des animations culturelles\, sportives\, éducatives et citoyennes à vivre en famille et entre amis.    Ce programme\, véritable rendez-vous intergénérationnel\, vise à favoriser le vivre-ensemble\, animer les quartiers\, valoriser les talents du territoire et proposer aux Gosiériens et visiteurs une saison (…) 
X-WR-RELCALID:vivre-au-gosier/jeunesse-animations-loisirs/actualites/article/le-gosier-s-anime-pendant-toutes-les-vacances-avec-vakans-o-gozye
BEGIN:VEVENT
SUMMARY: Village du quartier n°3 à Saint-Félix
UID:evenement2419 @ https://www.villedugosier.fr
DTSTAMP:20250807T140138Z
DTSTART:20250809T150000Z
DTEND:20250810T030000Z
CREATED:20250807T140138Z
LAST-MODIFIED:20250807T180456Z 
LOCATION:Terrain de football de Saint-Felix\, le Gosier
DESCRIPTION:Au programme : Ateliers créatifs : création et vente d’objets artisanaux Démonstration de judo avec l’association Judo Phénix Atelier compostage animé par le Sinnoval. Un kit compostage sera offert aux participants sur présentation d’une pièce d’identité et d’un justificatif de domicile sur le territoire de la Riviera du Levant. Initiation à la pétanque avec l’association Boule Caribéenne Exposition couture : découvrez les réalisations des talents locaux dans le domaine du stylisme ! Sécurité routière : stand de sensibilisation Structure gonflable pour les enfants Dictée créole\, précédée d’une initiation à la langue créole Vente de poisson frais par l’association des marins pêcheurs
CATEGORIES:Le Gosier s’anime pendant toutes les vacances avec “Vakans O Gozyé” 
URL:https://www.villedugosier.fr/vivre-au-gosier/jeunesse-animations-loisirs/actualites/article/le-gosier-s-anime-pendant-toutes-les-vacances-avec-vakans-o-gozye?id_evenement=2419

STATUS:CONFIRMED
END:VEVENT
END:VCALENDAR

