BEGIN:VCALENDAR
VERSION:2.0
X-WR-TIMEZONE:America/Guadeloupe
CALSCALE:GREGORIAN
PRODID:-//IPEOS/Calendar//NONSGML v1.0//FR
X-WR-CALNAME;VALUE=TEXT:Ville du Gosier - Guadeloupe - Le Gosier s’anime pendant toutes les vacances avec “Vakans O Gozyé”  
X-WR-CALDESC: Dans le cadre du dispositif « J’aime ma ville\, je l’anime »\, la programmation de l’opération “Vakans O Gozyé” se poursuit jusqu’au 25 août 2025 sur l’ensemble du territoire communal. Des animations culturelles\, sportives\, éducatives et citoyennes à vivre en famille et entre amis.    Ce programme\, véritable rendez-vous intergénérationnel\, vise à favoriser le vivre-ensemble\, animer les quartiers\, valoriser les talents du territoire et proposer aux Gosiériens et visiteurs une saison (…) 
X-WR-RELCALID:vivre-au-gosier/jeunesse-animations-loisirs/actualites/article/le-gosier-s-anime-pendant-toutes-les-vacances-avec-vakans-o-gozye
BEGIN:VEVENT
SUMMARY: Opération coup de poing “Clean ton quartier !”
UID:evenement2423 @ https://www.villedugosier.fr
DTSTAMP:20250811T125933Z
DTSTART:20250812T110000Z
DTEND:20250812T140000Z
CREATED:20250811T125933Z
LAST-MODIFIED:20250811T165933Z 
LOCATION:Mares de Diavet et de Diagnio au Gosier
DESCRIPTION:La Ville du Gosier lance une opération citoyenne d’embellissement et de développement durable en invitant la population à une opération de nettoyage des mares de Diavet et de Diagnio. Animations ludiques de sensibilisation à la réduction des déchets et à la lutte contre les décharges sauvages proposées à l’ensemble des usagers. Cette action est co-portée par les associations de quartier. Objectif : lutter contre les dépôts sauvages qui dégradent notre environnement et sensibiliser les riverains à la vigilance / sensibiliser les riverains à la vigilance. Les services municipaux mettront à disposition : sacs poubelles\, gants\, et pinces à déchets
CATEGORIES:Le Gosier s’anime pendant toutes les vacances avec “Vakans O Gozyé” 
URL:https://www.villedugosier.fr/vivre-au-gosier/jeunesse-animations-loisirs/actualites/article/le-gosier-s-anime-pendant-toutes-les-vacances-avec-vakans-o-gozye?id_evenement=2423

STATUS:CONFIRMED
END:VEVENT
END:VCALENDAR

