BEGIN:VCALENDAR
VERSION:2.0
X-WR-TIMEZONE:America/Guadeloupe
CALSCALE:GREGORIAN
PRODID:-//IPEOS/Calendar//NONSGML v1.0//FR
X-WR-CALNAME;VALUE=TEXT:Ville du Gosier - Guadeloupe - Distributions de packs / bonbonnes d’eau le 11 août 2025 sur 2 sites
X-WR-CALDESC: En raison des manques d’eau répétés sur le territoire\, Michel HOTIN\, Maire du Gosier informe la  population que les services municipaux\, en lien avec le SMGEAG\, procéderont à une distribution de  packs et de bonbonnes d’eau :    ce lundi 11 août de 15h à 18h  au Palais des sports et de la culture\, Bas-du-Fort à l’école Klébert Moinet\, Mare-Gaillard   Les élus chargés de la distribution remettront 2 packs ou 3 bonbonnes suivant les disponibilités\,  sur présentation d’une pièce d’identité et (…) 
X-WR-RELCALID:actualites/communiques-info-pratique/article/9337
BEGIN:VEVENT
SUMMARY:Distributions de packs / bonbonnes d’eau sur 2 sites
UID:evenement2424 @ https://www.villedugosier.fr
DTSTAMP:20250811T191051Z
DTSTART:20250811T190000Z
DTEND:20250811T220000Z
CREATED:20250811T191051Z
LAST-MODIFIED:20250811T231051Z 
LOCATION:Palais des Sports et de la Culture\, Bas du Fort et école Klébert Moinet\, Mare-Gaillard\, Le Gosier
DESCRIPTION:En raison des manques d’eau répétés sur le territoire\, Michel HOTIN\, Maire du Gosier informe la population que les services municipaux\, en lien avec le SMGEAG\, procéderont à une distribution de packs et de bonbonnes d’eau ce lundi 11 août de 15h à 18h : au Palais des sports et de la culture\, Bas-du-Fort à l’école Klébert Moinet\, Mare-Gaillard Les élus chargés de la distribution remettront 2 packs ou 3 bonbonnes suivant les disponibilités\, sur présentation d’une pièce d’identité et d’un justificatif de domicile. Attention : chaque administré ne pourra récupérer que pour son propre compte dans la limite des stocks disponibles. Le Maire du Gosier compte sur le bon déroulement de cette distribution et invite la population à faire preuve de civisme.
CATEGORIES:Distributions de packs / bonbonnes d’eau le 11 août 2025 sur 2 sites
URL:https://www.villedugosier.fr/actualites/communiques-info-pratique/article/9337?id_evenement=2424

STATUS:CONFIRMED
END:VEVENT
END:VCALENDAR

