BEGIN:VCALENDAR
VERSION:2.0
X-WR-TIMEZONE:America/Guadeloupe
CALSCALE:GREGORIAN
PRODID:-//IPEOS/Calendar//NONSGML v1.0//FR
X-WR-CALNAME;VALUE=TEXT:Ville du Gosier - Guadeloupe - Fête Patronale du Gosier du 16 au 25 août 2025
X-WR-CALDESC: Ça y est ! Nous y sommes ! Le Gosier va vibrer du 16 au 25 août aux rythmes des festivités de la fête patronale. Cette édition 2025 met en exergue le rôle incontournable des forces vives du territoire dans la vie de la cité\, sous le thème « Nou tout sé fòs a téritwa an nou ! »   Notre commune vous invite à célébrer ce qui la rend unique : la diversité de ses talents\, l’engagement de ses citoyens\, la richesse de son patrimoine.  Cette édition est un véritable hymne à ceux qui font vivre le (…) 
X-WR-RELCALID:que-faire-au-gosier/culture-patrimoine-et-pratiques-artistiques/actualites/article/fete-patronale-du-gosier-du-16-au-25-aout-2025
BEGIN:VEVENT
SUMMARY:Grand Prix de Ville du Gosier • Compétition des boeufs tirants
UID:evenement2425 @ https://www.villedugosier.fr
DTSTAMP:20250813T003525Z
DTSTART:20250816T120000Z
DTEND:20250816T200000Z
CREATED:20250813T003525Z
LAST-MODIFIED:20250815T232603Z 
LOCATION:Terrain Kancel\, traversée de Port-Blanc / Pliane
DESCRIPTION:Grand Prix de Ville du Gosier • Compétition des boeufs tirants Véritables pratiques combinant le sport et la culture\, les compétitions de boeufs tirants rassemblent de nombreux clubs de Guadeloupe qui offrent au public un beau spectacle. L’espace permet aux familles de découvrir ou de revivre une ambiance conviviale\, où se partagent rafraîchissements et victuailles grâce aux stands installés sur le site. Les catégories C ouvrent la compétition\, ensuite les attelages de catégorie B sont lancés\, pour terminer les catégories A. Le Grand Prix de la Ville du Gosier est co-organisé par l’Association Gosiérienne des Volontaires des Boeufs Tirants (AGVBT).
CATEGORIES:Fête Patronale du Gosier du 16 au 25 août 2025
URL:https://www.villedugosier.fr/que-faire-au-gosier/culture-patrimoine-et-pratiques-artistiques/actualites/article/fete-patronale-du-gosier-du-16-au-25-aout-2025?id_evenement=2425

STATUS:CONFIRMED
END:VEVENT
END:VCALENDAR

