BEGIN:VCALENDAR
VERSION:2.0
X-WR-TIMEZONE:America/Guadeloupe
CALSCALE:GREGORIAN
PRODID:-//IPEOS/Calendar//NONSGML v1.0//FR
X-WR-CALNAME;VALUE=TEXT:Ville du Gosier - Guadeloupe - Fête Patronale du Gosier du 16 au 25 août 2025
X-WR-CALDESC: Ça y est ! Nous y sommes ! Le Gosier va vibrer du 16 au 25 août aux rythmes des festivités de la fête patronale. Cette édition 2025 met en exergue le rôle incontournable des forces vives du territoire dans la vie de la cité\, sous le thème « Nou tout sé fòs a téritwa an nou ! »   Notre commune vous invite à célébrer ce qui la rend unique : la diversité de ses talents\, l’engagement de ses citoyens\, la richesse de son patrimoine.  Cette édition est un véritable hymne à ceux qui font vivre le (…) 
X-WR-RELCALID:que-faire-au-gosier/culture-patrimoine-et-pratiques-artistiques/actualites/article/fete-patronale-du-gosier-du-16-au-25-aout-2025
BEGIN:VEVENT
SUMMARY:Jubilé Hector Berthelot • Match de football
UID:evenement2426 @ https://www.villedugosier.fr
DTSTAMP:20250813T004456Z
DTSTART:20250822T230000Z
DTEND:20250823T010000Z
CREATED:20250813T004456Z
LAST-MODIFIED:20250814T041728Z 
LOCATION:Terrain de football de Belle-Plaine
DESCRIPTION:Jubilé Hector Berthelot • Match de football La municipalité du Gosier en partenariat avec le Comité de quartier de Belle-Plaine mettent à l’honneur une personnalité du Gosier\, Hector Berthelot. Il a joué un rôle important dans la vie de la commune\, tant sur le plan politique que sportif. En effet\, il a été conseiller municipal jusqu’en 2014\, administrateur du Centre Communal d’Action Sociale du Gosier et a oeuvré dans de nombreux projets sportifs. Un match de football sera donné en son honneur\, entre le Cosmos club\, qu’il a fondé et l’ancien Mondial Club.
CATEGORIES:Fête Patronale du Gosier du 16 au 25 août 2025
URL:https://www.villedugosier.fr/que-faire-au-gosier/culture-patrimoine-et-pratiques-artistiques/actualites/article/fete-patronale-du-gosier-du-16-au-25-aout-2025?id_evenement=2426

STATUS:CONFIRMED
END:VEVENT
END:VCALENDAR

