BEGIN:VCALENDAR
VERSION:2.0
X-WR-TIMEZONE:America/Guadeloupe
CALSCALE:GREGORIAN
PRODID:-//IPEOS/Calendar//NONSGML v1.0//FR
X-WR-CALNAME;VALUE=TEXT:Ville du Gosier - Guadeloupe - Fête Patronale du Gosier du 16 au 25 août 2025
X-WR-CALDESC: Ça y est ! Nous y sommes ! Le Gosier va vibrer du 16 au 25 août aux rythmes des festivités de la fête patronale. Cette édition 2025 met en exergue le rôle incontournable des forces vives du territoire dans la vie de la cité\, sous le thème « Nou tout sé fòs a téritwa an nou ! »   Notre commune vous invite à célébrer ce qui la rend unique : la diversité de ses talents\, l’engagement de ses citoyens\, la richesse de son patrimoine.  Cette édition est un véritable hymne à ceux qui font vivre le (…) 
X-WR-RELCALID:que-faire-au-gosier/culture-patrimoine-et-pratiques-artistiques/actualites/article/fete-patronale-du-gosier-du-16-au-25-aout-2025
BEGIN:VEVENT
SUMMARY:Jouné an fanmi
UID:evenement2428 @ https://www.villedugosier.fr
DTSTAMP:20250813T005633Z
DTSTART:20250823T150000Z
DTEND:20250823T230000Z
CREATED:20250813T005633Z
LAST-MODIFIED:20250823T191003Z 
LOCATION:Parc paysager du Calvaire & Parking de l’Anse Tabarin\, bourg du Gosier
DESCRIPTION:Journée de la famille Une journée pour profiter en famille ! Petits\, grands\, jeunes et moins jeunes sont attendus autour de multiples animations en démonstration et en initiation. À partir de 11h Jeux traditionnels Atelier arbre généalogique Structures gonflables pour les enfants Ateliers créatifs À partir de 14h Initiation et démonstration arts du cirque Atelier peinture À partir de 15h30 Initiation et prestation de diverses danses (afro dance\, amapiano\, gwo ka\, zumba...) Pendant toute la journée\, des stands à la disposition du public pour déguster différentes douceurs et saveurs et promouvoir les activités commerciales de petits commerçants présents sur le site.
CATEGORIES:Fête Patronale du Gosier du 16 au 25 août 2025
URL:https://www.villedugosier.fr/que-faire-au-gosier/culture-patrimoine-et-pratiques-artistiques/actualites/article/fete-patronale-du-gosier-du-16-au-25-aout-2025?id_evenement=2428

STATUS:CONFIRMED
END:VEVENT
END:VCALENDAR

