BEGIN:VCALENDAR
VERSION:2.0
X-WR-TIMEZONE:America/Guadeloupe
CALSCALE:GREGORIAN
PRODID:-//IPEOS/Calendar//NONSGML v1.0//FR
X-WR-CALNAME;VALUE=TEXT:Ville du Gosier - Guadeloupe - Fête Patronale du Gosier du 16 au 25 août 2025
X-WR-CALDESC: Ça y est ! Nous y sommes ! Le Gosier va vibrer du 16 au 25 août aux rythmes des festivités de la fête patronale. Cette édition 2025 met en exergue le rôle incontournable des forces vives du territoire dans la vie de la cité\, sous le thème « Nou tout sé fòs a téritwa an nou ! »   Notre commune vous invite à célébrer ce qui la rend unique : la diversité de ses talents\, l’engagement de ses citoyens\, la richesse de son patrimoine.  Cette édition est un véritable hymne à ceux qui font vivre le (…) 
X-WR-RELCALID:que-faire-au-gosier/culture-patrimoine-et-pratiques-artistiques/actualites/article/fete-patronale-du-gosier-du-16-au-25-aout-2025
BEGIN:VEVENT
SUMMARY:Podium de la fête patronale
UID:evenement2429 @ https://www.villedugosier.fr
DTSTAMP:20250813T005809Z
DTSTART:20250823T230000Z
DTEND:20250824T020000Z
CREATED:20250813T005809Z
LAST-MODIFIED:20250814T213038Z 
LOCATION:Boulodrome de la Datcha\, bourg du Gosier
DESCRIPTION:Podium de la fête patronale Jessye Belleval en live\, Young Chang en live\, Don Snoop\, Le Juh\, LaTop\, D6bel\, Pétay Cho Concert live de Fanny J
CATEGORIES:Fête Patronale du Gosier du 16 au 25 août 2025
URL:https://www.villedugosier.fr/que-faire-au-gosier/culture-patrimoine-et-pratiques-artistiques/actualites/article/fete-patronale-du-gosier-du-16-au-25-aout-2025?id_evenement=2429

STATUS:CONFIRMED
END:VEVENT
END:VCALENDAR

