BEGIN:VCALENDAR
VERSION:2.0
X-WR-TIMEZONE:America/Guadeloupe
CALSCALE:GREGORIAN
PRODID:-//IPEOS/Calendar//NONSGML v1.0//FR
X-WR-CALNAME;VALUE=TEXT:Ville du Gosier - Guadeloupe - Fête Patronale du Gosier du 16 au 25 août 2025
X-WR-CALDESC: Ça y est ! Nous y sommes ! Le Gosier va vibrer du 16 au 25 août aux rythmes des festivités de la fête patronale. Cette édition 2025 met en exergue le rôle incontournable des forces vives du territoire dans la vie de la cité\, sous le thème « Nou tout sé fòs a téritwa an nou ! »   Notre commune vous invite à célébrer ce qui la rend unique : la diversité de ses talents\, l’engagement de ses citoyens\, la richesse de son patrimoine.  Cette édition est un véritable hymne à ceux qui font vivre le (…) 
X-WR-RELCALID:que-faire-au-gosier/culture-patrimoine-et-pratiques-artistiques/actualites/article/fete-patronale-du-gosier-du-16-au-25-aout-2025
BEGIN:VEVENT
SUMMARY:Cérémonie officielle du vin d’honneur
UID:evenement2430 @ https://www.villedugosier.fr
DTSTAMP:20250813T010010Z
DTSTART:20250824T110000Z
DTEND:20250824T190000Z
CREATED:20250813T010010Z
LAST-MODIFIED:20250815T234606Z 
LOCATION:Esplanade de la Rénovation\, Bd Amédée Clara\, bourg
DESCRIPTION:Cérémonie officielle du vin d’honneur 7h00 Accueil et rassemblement des invités\, Mairie du Gosier 7h15 Départ du cortège officiel et dépôt de gerbes au Monument aux morts 8h00 Messe de Saint-Louis\, Saint-Patron du Gosier\, Paroisse de Saint-Louis 10h00 Allocutions suivies du Vin d’honneur\, Esplanade de la Rénovation Buffet républicain avec animation musicale assurée par Fred Dehayes et le groupe Passion Express. Attention ! La circulation sera réglementée sur le boulevard du Général de Gaulle lors du passage du cortège\, et sur le boulevard Amédée Clara pendant les allocutions et le vin d’honneur.
CATEGORIES:Fête Patronale du Gosier du 16 au 25 août 2025
URL:https://www.villedugosier.fr/que-faire-au-gosier/culture-patrimoine-et-pratiques-artistiques/actualites/article/fete-patronale-du-gosier-du-16-au-25-aout-2025?id_evenement=2430

STATUS:CONFIRMED
END:VEVENT
END:VCALENDAR

