BEGIN:VCALENDAR
VERSION:2.0
X-WR-TIMEZONE:America/Guadeloupe
CALSCALE:GREGORIAN
PRODID:-//IPEOS/Calendar//NONSGML v1.0//FR
X-WR-CALNAME;VALUE=TEXT:Ville du Gosier - Guadeloupe - Fête Patronale du Gosier du 16 au 25 août 2025
X-WR-CALDESC: Ça y est ! Nous y sommes ! Le Gosier va vibrer du 16 au 25 août aux rythmes des festivités de la fête patronale. Cette édition 2025 met en exergue le rôle incontournable des forces vives du territoire dans la vie de la cité\, sous le thème « Nou tout sé fòs a téritwa an nou ! »   Notre commune vous invite à célébrer ce qui la rend unique : la diversité de ses talents\, l’engagement de ses citoyens\, la richesse de son patrimoine.  Cette édition est un véritable hymne à ceux qui font vivre le (…) 
X-WR-RELCALID:que-faire-au-gosier/culture-patrimoine-et-pratiques-artistiques/actualites/article/fete-patronale-du-gosier-du-16-au-25-aout-2025
BEGIN:VEVENT
SUMMARY:Parade des quadrilleurs
UID:evenement2431 @ https://www.villedugosier.fr
DTSTAMP:20250813T010130Z
DTSTART:20250824T200000Z
DTEND:20250824T230000Z
CREATED:20250813T010130Z
LAST-MODIFIED:20250825T211215Z 
LOCATION: Parcours : départ Pôle administratif Edmond Sainsily - Périnet • arrivée parking du boulodrome de la Datcha
DESCRIPTION:Parade des quadrilleurs Les groupes de quadrille parcourront un circuit au bourg\, aux rythmes du quadrille\, faisant parti de notre patrimoine culturel et hérité d’une période très ancienne. À l'arrivée\, les danseurs effectueront des danses avant un moment officiel de remise de récompenses et de partage d'un pot de l'amitié. Attention ! La circulation sera réglementée sur le parcours.
CATEGORIES:Fête Patronale du Gosier du 16 au 25 août 2025
URL:https://www.villedugosier.fr/que-faire-au-gosier/culture-patrimoine-et-pratiques-artistiques/actualites/article/fete-patronale-du-gosier-du-16-au-25-aout-2025?id_evenement=2431

STATUS:CONFIRMED
END:VEVENT
END:VCALENDAR

