BEGIN:VCALENDAR
VERSION:2.0
X-WR-TIMEZONE:America/Guadeloupe
CALSCALE:GREGORIAN
PRODID:-//IPEOS/Calendar//NONSGML v1.0//FR
X-WR-CALNAME;VALUE=TEXT:Ville du Gosier - Guadeloupe - Fête Patronale du Gosier du 16 au 25 août 2025
X-WR-CALDESC: Ça y est ! Nous y sommes ! Le Gosier va vibrer du 16 au 25 août aux rythmes des festivités de la fête patronale. Cette édition 2025 met en exergue le rôle incontournable des forces vives du territoire dans la vie de la cité\, sous le thème « Nou tout sé fòs a téritwa an nou ! »   Notre commune vous invite à célébrer ce qui la rend unique : la diversité de ses talents\, l’engagement de ses citoyens\, la richesse de son patrimoine.  Cette édition est un véritable hymne à ceux qui font vivre le (…) 
X-WR-RELCALID:que-faire-au-gosier/culture-patrimoine-et-pratiques-artistiques/actualites/article/fete-patronale-du-gosier-du-16-au-25-aout-2025
BEGIN:VEVENT
SUMMARY:Fête des marins-pêcheurs
UID:evenement2432 @ https://www.villedugosier.fr
DTSTAMP:20250813T010518Z
DTSTART:20250825T120000Z
DTEND:20250825T183000Z
CREATED:20250813T010518Z
LAST-MODIFIED:20250815T234724Z 
LOCATION:Anse Dumont\, Saint-Félix
DESCRIPTION:Fête des marins-pêcheurs Une messe est donnée au local de l’association des jeunes de Saint-Félix (AJSF) dès 8h\, suivie d’une cérémonie au large avec lancer de couronnes de fleurs en mer en hommage aux pêcheurs disparus. Cette cérémonie est organisée par l’AJSF\, l’association Bank’s et l’associations des marins-pêcheurs.
CATEGORIES:Fête Patronale du Gosier du 16 au 25 août 2025
URL:https://www.villedugosier.fr/que-faire-au-gosier/culture-patrimoine-et-pratiques-artistiques/actualites/article/fete-patronale-du-gosier-du-16-au-25-aout-2025?id_evenement=2432

STATUS:CONFIRMED
END:VEVENT
END:VCALENDAR

