BEGIN:VCALENDAR
VERSION:2.0
X-WR-TIMEZONE:America/Guadeloupe
CALSCALE:GREGORIAN
PRODID:-//IPEOS/Calendar//NONSGML v1.0//FR
X-WR-CALNAME;VALUE=TEXT:Ville du Gosier - Guadeloupe - CARL Day : La CARL vous ouvre ses portes
X-WR-CALDESC: La CARL invite les habitants de ses communes membres à une journée exceptionnelle pour découvrir ses projets\, ses compétences et ses actions au service du territoire\, le mercredi 27 août 2025\, de 10h à 16h\, sur le Terrain de football de Ffrench à Sainte-Anne. À cette occasion\, la Ville du Gosier sera présente à cet événement et invite donc les habitants de la commune à y participer. Les services municipaux présenteront leurs missions et projets.    Au programme :  des ateliers pratiques pour (…) 
X-WR-RELCALID:services-demarches/les-services-publics-non-municipaux/communaute-d-agglomeration-la-riviera-du-levant/article/carl-day-la-carl-vous-ouvre-ses-portes
BEGIN:VEVENT
SUMMARY:CARL Day : La CARL vous ouvre ses portes
UID:evenement2433 @ https://www.villedugosier.fr
DTSTAMP:20250814T015144Z
DTSTART:20250827T140000Z
DTEND:20250827T220000Z
CREATED:20250814T015144Z
LAST-MODIFIED:20250822T161750Z 
LOCATION:Terrain de Ffrench\, Sainte-Anne
DESCRIPTION:La CARL invite les habitants de ses communes membres à une journée exceptionnelle pour découvrir ses projets\, ses compétences et ses actions au service du territoire\, le mercredi 27 août 2025\, de 10h à 16h\, sur le Terrain de football de Ffrench à Sainte-Anne. À cette occasion\, la Ville du Gosier sera présente à cet événement et invite donc les habitants de la commune à y participer. Les services municipaux présenteront leurs missions et projets. Au programme : des ateliers pratiques pour les entrepreneurs et les demandeurs d’emploi\, des Ti Kozé citoyens\, des animations pour les familles et les jeunes\, des stands d’information\, des cadeaux et de nombreuses surprises. La fin de la journée sera sublimée par des prestations artistiques et culturelles. Entrée libre et gratuite. La réservation en ligne est obligatoire : https://billetterie.ticketeventroom.com/index.php?ev=DRYjCZ Des navettes gratuites seront mises à disposition afin de permettre la participation du plus grand nombre. Allez à la rencontre de vos élus communautaires et des agents de la Riviera du Levant pour partager un moment convivial !
CATEGORIES:CARL Day : La CARL vous ouvre ses portes
URL:https://www.villedugosier.fr/services-demarches/les-services-publics-non-municipaux/communaute-d-agglomeration-la-riviera-du-levant/article/carl-day-la-carl-vous-ouvre-ses-portes?id_evenement=2433

STATUS:CONFIRMED
END:VEVENT
END:VCALENDAR

