BEGIN:VCALENDAR
VERSION:2.0
X-WR-TIMEZONE:America/Guadeloupe
CALSCALE:GREGORIAN
PRODID:-//IPEOS/Calendar//NONSGML v1.0//FR
X-WR-CALNAME;VALUE=TEXT:Ville du Gosier - Guadeloupe - Ciné en plein air avec l’ASC Cocoyer et ses environs
X-WR-CALDESC: L’association sportive et culturelle de Cocoyer invite les habitants du quartier et plus largement la population du Gosier et d’ailleurs à la mise à l’honneur d’un enfant du quartier de Cocoyer\, bien connu de tous les Guadeloupéens\, Monsieur Patrick Soulez.    À cette occasion\, son court métrage "Pou on saxo" et son film "Impact" seront projetés au local de l’association à Fon a Fa\, Labouaye au Gosier\, le samedi 30 août à 19h.   L’association ASC Cocoyer propose un bar payant :  Boissons (…) 
X-WR-RELCALID:vivre-au-gosier/vie-associative-et-des-quartiers/actualites-associatives/article/9361
BEGIN:VEVENT
SUMMARY:Ciné en plein air avec l'ASC Cocoyer et ses environs
UID:evenement2434 @ https://www.villedugosier.fr
DTSTAMP:20250826T122756Z
DTSTART:20250830T230000Z
DTEND:20250831T013000Z
CREATED:20250826T122756Z
LAST-MODIFIED:20250826T162756Z 
LOCATION:Local de l’association ASC Cocoyer\, Fon a Fa\, Labouaye\, Gosier
DESCRIPTION:L’association sportive et culturelle de Cocoyer invite les habitants du quartier et plus largement la population du Gosier et d’ailleurs à la mise à l’honneur d’un enfant du quartier de Cocoyer\, bien connu de tous les Guadeloupéens\, Monsieur Patrick Soulez. À cette occasion\, son court métrage "Pou on saxo" et son film "Impact" seront projetés au local de l’association à Fon a Fa\, Labouaye au Gosier\, le samedi 30 août à 19h. L’association ASC Cocoyer propose un bar payant : Boissons Soupe Bokits Contacts : 0690 54 50 63 • 0690 62 01 45
CATEGORIES:Ciné en plein air avec l'ASC Cocoyer et ses environs
URL:https://www.villedugosier.fr/vivre-au-gosier/vie-associative-et-des-quartiers/actualites-associatives/article/9361?id_evenement=2434

STATUS:CONFIRMED
END:VEVENT
END:VCALENDAR

