BEGIN:VCALENDAR
VERSION:2.0
X-WR-TIMEZONE:America/Guadeloupe
CALSCALE:GREGORIAN
PRODID:-//IPEOS/Calendar//NONSGML v1.0//FR
X-WR-CALNAME;VALUE=TEXT:Ville du Gosier - Guadeloupe - Karulis présent à la journée d’accueil des nouveaux étudiants
X-WR-CALDESC: Karulis sera présent à la journée d’accueil des nouveaux étudiants organisée par l’Université des Antilles ce mardi 2 septembre 2025 dès 8h\, sur le Campus de Fouillole.  Des conseillers de Karulis répondront aux interrogations des futurs étudiants en matière de transport.    Ne manquez pas ce rendez-vous !  Pose toutes tes questions sur le réseau Karu’lis Découvre nos services et nos offres Repars directement avec ton Pass activée le jour même !   Pour obtenir ta carte\, pense à ramener : (…) 
X-WR-RELCALID:services-demarches/les-services-publics-non-municipaux/syndicat-mixte-des-transports-smt-karulis/article/9367
BEGIN:VEVENT
SUMMARY:Karulis présent à la journée d'accueil des nouveaux étudiants
UID:evenement2444 @ https://www.villedugosier.fr
DTSTAMP:20250827T110737Z
DTSTART:20250902T120000Z
DTEND:20250902T160000Z
CREATED:20250827T110737Z
LAST-MODIFIED:20250827T150834Z 
LOCATION:Campus de Fouillole\, Université des Antilles\, Pointe-à-Pitre
DESCRIPTION:Karulis sera présent à la journée d’accueil des nouveaux étudiants organisée par l’Université des Antilles ce mardi 2 septembre 2025 dès 8h\, sur le Campus de Fouillole. Des conseillers de Karulis répondront aux interrogations des futurs étudiants en matière de transport. Ne manquez pas ce rendez-vous ! Pose toutes tes questions sur le réseau Karu’lis Découvre nos services et nos offres Repars directement avec ton Pass activée le jour même ! Pour obtenir ta carte\, pense à ramener : Une photo d’identité Ta pièce d’identité Un justificatif de domicile (à ton nom ou celui de ton hébergeur) La photocopie de la pièce d’identité de ton hébergeur (si tu es hébergé par un tiers) Les conseillers de Karulis sont mobilités et restent joignables au 0590 24 26 06.
CATEGORIES:Karulis présent à la journée d'accueil des nouveaux étudiants
URL:https://www.villedugosier.fr/services-demarches/les-services-publics-non-municipaux/syndicat-mixte-des-transports-smt-karulis/article/9367?id_evenement=2444

STATUS:CONFIRMED
END:VEVENT
END:VCALENDAR

