BEGIN:VCALENDAR
VERSION:2.0
X-WR-TIMEZONE:America/Guadeloupe
CALSCALE:GREGORIAN
PRODID:-//IPEOS/Calendar//NONSGML v1.0//FR
X-WR-CALNAME;VALUE=TEXT:Ville du Gosier - Guadeloupe - Le Gosier fait la rentrée... des associations | 9ème édition
X-WR-CALDESC: Ce rendez-vous désormais incontournable de la rentrée se déroulera samedi 6 septembre 2025 de 10h à 18h au Palais des sports et de la culture\, au Gosier. Une occasion idéale de découvrir ou de redécouvrir en un même lieu les associations du Gosier et de toucher du doigt les diverses activités sportives\, culturelles\, éducatives\, de loisirs et environnementales\, proposées par les forces vives du territoire.    L’occasion également pour les parents de faire les choix d’activités extrascolaires (…) 
X-WR-RELCALID:vivre-au-gosier/vie-associative-et-des-quartiers/actualites-associatives/article/le-gosier-fait-la-rentree-des-associations-9eme-edition
BEGIN:VEVENT
SUMMARY:Le Gosier fait la rentrée... des associations | 9ème édition
UID:evenement2446 @ https://www.villedugosier.fr
DTSTAMP:20250828T231423Z
DTSTART:20250906T140000Z
DTEND:20250906T220000Z
CREATED:20250828T231423Z
LAST-MODIFIED:20250829T031608Z 
LOCATION:Palais des sports et de la culture\, Bas-du-Fort\, Le Gosier
DESCRIPTION:Ce rendez-vous désormais incontournable de la rentrée se déroulera samedi 6 septembre 2025 de 10h à 18h au Palais des sports et de la culture\, au Gosier. Une occasion idéale de découvrir ou de redécouvrir en un même lieu les associations du Gosier et de toucher du doigt les diverses activités sportives\, culturelles\, éducatives\, de loisirs et environnementales\, proposées par les forces vives du territoire. L’occasion également pour les parents de faire les choix d’activités extrascolaires pour leurs enfants\, de pratiquer une activité pour eux-mêmes\, ou de s’engager dans le milieu associatif. Pour cette 9ème édition\, de nombreuses associations du territoire communal seront présentes et tiendront un stand au sein du palais des sports et de la culture. Programme 10h : Accueil en musique et ouverture des stands associatifs Plusieurs espaces thématiques accueilleront le public : culture\, sport\, citoyenneté\, environnement\, éducation 10h à 12h : Initiation d’activités sportives au dojo\, sur le parvis et en extérieur de : baby karaté\, karaté débutant\, judo débutant\, escrime\, basket\, mini tennis\, capoeira\, chant\, poney 14h : Conférence : “Histoires de temps” → témoignages de bénévoles d’hier et d’aujourd’hui pour mettre en valeur la richesse des parcours et des formes d’engagement à travers le temps\, avec les participants suivants : Daniette LUNION BROSSEAU\, Maris Stella Christian MONTOUT\, Gosier Athletic Club (GAC) Enide GANTOIS\, Higashi Karaté club Marisette ROLNIN\, Scouts et Guides du Gosier Elodie CAIRO\, Gosier Athletic Club (GAC) Liva MONDOR\, Maris Stella Freddy SÉBASTIEN\, Mieux vivre à Mathurin Mélissa PIERRE\, Espoir du Sud (EDS) 15h : Conférence : “Donner de son temps : un luxe ou un engagement” → Explorer la place du bénévolat dans nos vies modernes souvent surchargées\, trouver l’équilibre entre bénévolat et vie personnelle : Qu’est-ce qui motive les gens à donner de leur temps ? Faut-il du temps libre pour être bénévole ? Comment concilier passion associative et responsabilités familiales ? 16h : Démonstration culturelles & artistiques : danse de quadrille\, danse traditionnelle\, chant choral\, chant traditionnel. → Tout au long de la journée\, des jeux géants et structures gonflables seront proposés aux enfants. → Fresque associative "Ilot d’expression" : Exposition des productions créatives des associations. → Animation de l’événement par Dina BENOUET aka Dina Dynamik → Restauration sur place
CATEGORIES:Le Gosier fait la rentrée... des associations | 9ème édition
URL:https://www.villedugosier.fr/vivre-au-gosier/vie-associative-et-des-quartiers/actualites-associatives/article/le-gosier-fait-la-rentree-des-associations-9eme-edition?id_evenement=2446

STATUS:CONFIRMED
END:VEVENT
END:VCALENDAR

