BEGIN:VCALENDAR
VERSION:2.0
X-WR-TIMEZONE:America/Guadeloupe
CALSCALE:GREGORIAN
PRODID:-//IPEOS/Calendar//NONSGML v1.0//FR
X-WR-CALNAME;VALUE=TEXT:Ville du Gosier - Guadeloupe - Bus France Services\, à votre service !
X-WR-CALDESC: Le Bus France Services revient au Gosier pour ce mois de septembre ! Besoin d’un coup de main pour vos démarches ?  Le bus itinérant de La Riviera du Levant sera sur le territoire communal ce mois-ci sur différents sites.  À bord\, des agents à votre écoute pour vous accompagner dans vos démarches du quotidien (CAF\, Pôle emploi\, sécurité sociale\, impôts…).  Planning :   Horaires : de 8h à. 13h  Mercredi 3 septembre : Parc du Calvaire Mercredi 10 septembre : Labrousse\, près du local associatif (…) 
X-WR-RELCALID:services-demarches/les-services-publics-non-municipaux/communaute-d-agglomeration-la-riviera-du-levant/article/bus-france-services-a-votre-service
BEGIN:VEVENT
SUMMARY:Le bus France Services\, pour vos démarches administratives
UID:evenement2452 @ https://www.villedugosier.fr
DTSTAMP:20000101T040000Z
DTSTART:20250924T120000Z
DTEND:20250924T170000Z
CREATED:20000101T040000Z
LAST-MODIFIED:20250902T052801Z 
LOCATION:Beaumanoir\, à proximité du local associatif\, Le Gosier
DESCRIPTION:Le Bus France Services sera présent au Gosier mercredi 24 septembre de 8h à 13h. Besoin d’un coup de main pour vos démarches ? Le bus itinérant de La Riviera du Levant sera sur le territoire communal les mercredis du mois de septembre sur différents sites. À bord\, des agents à votre écoute pour vous accompagner dans vos démarches du quotidien (CAF\, Pôle emploi\, sécurité sociale\, impôts…).
CATEGORIES:Bus France Services\, à votre service !
URL:https://www.villedugosier.fr/services-demarches/les-services-publics-non-municipaux/communaute-d-agglomeration-la-riviera-du-levant/article/bus-france-services-a-votre-service?id_evenement=2452

STATUS:CONFIRMED
END:VEVENT
END:VCALENDAR

