BEGIN:VCALENDAR
VERSION:2.0
X-WR-TIMEZONE:America/Guadeloupe
CALSCALE:GREGORIAN
PRODID:-//IPEOS/Calendar//NONSGML v1.0//FR
X-WR-CALNAME;VALUE=TEXT:Ville du Gosier - Guadeloupe - Portes ouvertes à l’association Libèté
X-WR-CALDESC: L’association Libèté\, qui a pour principales missions la défense et la préservation de la culture guadeloupéenne\, organise une après-midi portes ouvertes le samedi 13 septembre 2025 de 15h à 18h.    À cette occasion\, différents ateliers seront proposés aux visiteurs :  chant gwo ka danse gwo ka danse en ronde de gwo ka ka douceur percussion   L’événement se tient à l’espace An savann la\, derrière le lycée hôtelier\, à Saint-Félix au Gosier 
X-WR-RELCALID:vivre-au-gosier/vie-associative-et-des-quartiers/actualites-associatives/article/portes-ouvertes-a-l-association-libete
BEGIN:VEVENT
SUMMARY:Portes ouvertes à l'association Libèté
UID:evenement2457 @ https://www.villedugosier.fr
DTSTAMP:20250906T003343Z
DTSTART:20250913T190000Z
DTEND:20250913T220000Z
CREATED:20250906T003343Z
LAST-MODIFIED:20250908T171933Z 
LOCATION:Espace An savann la\, derrière le lycée hôtelier\, à Saint-Félix au Gosier
DESCRIPTION:L’association Libèté\, qui a pour principales missions la défense et la préservation de la culture guadeloupéenne\, organise une après-midi portes ouvertes le samedi 13 septembre 2025 de 15h à 18h. À cette occasion\, différents ateliers seront proposés aux visiteurs : chant gwo ka danse gwo ka danse en ronde de gwo ka ka douceur percussion L’événement se tient à l’espace An savann la\, derrière le lycée hôtelier\, à Saint-Félix au Gosier Contacts : 0690 98 96 09 • 0690 51 17 41
CATEGORIES:Portes ouvertes à l'association Libèté
URL:https://www.villedugosier.fr/vivre-au-gosier/vie-associative-et-des-quartiers/actualites-associatives/article/portes-ouvertes-a-l-association-libete?id_evenement=2457

STATUS:CONFIRMED
END:VEVENT
END:VCALENDAR

