BEGIN:VCALENDAR
VERSION:2.0
X-WR-TIMEZONE:America/Guadeloupe
CALSCALE:GREGORIAN
PRODID:-//IPEOS/Calendar//NONSGML v1.0//FR
X-WR-CALNAME;VALUE=TEXT:Ville du Gosier - Guadeloupe - Rencontre-auteur à la médiathèque Nicolo du Gosier le 18 octobre 2025 avec Michelle Couppé de K/Martin
X-WR-CALDESC: La Médiathèque Raoul Georges Nicolo du Gosier organise\, le samedi 18 octobre à 10h\, une rencontre littéraire avec Michelle Couppé de K/Martin\, Gosiérienne\, profondément ancrée dans le patrimoine culturel de sa commune et originaire de la section de Beaumanoir.    Figure engagée de la vie locale\, Michelle Couppé de K/Martin a également contribué activement à la vie de la cité en tant que conseillère municipale pendant plus de 10 ans et en tant que membre dirigeante associative\, renforçant (…) 
X-WR-RELCALID:actualites/communiques-info-pratique/article/9476
BEGIN:VEVENT
SUMMARY:Rencontre-auteur à la médiathèque Nicolo du Gosier le 18 octobre 2025 avec Michelle Couppé de K/Martin
UID:evenement2479 @ https://www.villedugosier.fr
DTSTAMP:20251013T192315Z
DTSTART:20251018T140000Z
DTEND:20251018T163000Z
CREATED:20251013T192315Z
LAST-MODIFIED:20251013T232325Z 
LOCATION:Médiathèque Raoul Georges Nicolo
DESCRIPTION:La médiathèque Raoul Georges Nicolo accueille Michelle Couppé de K/Martin\, pour une rencontre autour de son livre Il était une fois Beaumanoir Samedi 18 octobre 2025 10h00 – 11h30 Une belle occasion d’échanger avec l’auteur et de découvrir son univers littéraire\, dans le cadre du grand rendez-vous de la lecture en Guadeloupe. Infos : 0590 84 58 50
CATEGORIES:Rencontre-auteur à la médiathèque Nicolo du Gosier le 18 octobre 2025 avec Michelle Couppé de K/Martin
URL:https://www.villedugosier.fr/actualites/communiques-info-pratique/article/9476?id_evenement=2479

STATUS:CONFIRMED
END:VEVENT
END:VCALENDAR

