BEGIN:VCALENDAR
VERSION:2.0
X-WR-TIMEZONE:America/Guadeloupe
CALSCALE:GREGORIAN
PRODID:-//IPEOS/Calendar//NONSGML v1.0//FR
X-WR-CALNAME;VALUE=TEXT:Ville du Gosier - Guadeloupe -  Foire culinaire de l’association de Libèté
X-WR-CALDESC: L’association Libèté vous donne rendez-vous le dimanche 7 décembre\, dès 11h30\, à Saint-Félix !    Venez passer une journée placée sous le signe du partage\, de la convivialité et de la découverte. Au programme :   Une variété de saveurs pour éveiller vos papilles\,   Des plats authentiques préparés avec passion\,   Une ambiance chaleureuse pour échanger\, rire et profiter\,   Un moment en famille ou entre amis\, ouvert à toutes et à tous.   Que vous soyez curieux de découvrir de nouvelles (…) 
X-WR-RELCALID:vivre-au-gosier/vie-associative-et-des-quartiers/actualites-associatives/article/9587
BEGIN:VEVENT
SUMMARY: Foire culinaire de l'association de Libèté
UID:evenement2517 @ https://www.villedugosier.fr
DTSTAMP:20251204T134236Z
DTSTART:20251207T153000Z
DTEND:20251207T180000Z
CREATED:20251204T134236Z
LAST-MODIFIED:20251204T174243Z 
LOCATION:Local de l'association libèté
DESCRIPTION:L’association Libèté vous donne rendez-vous : dimanche 7 décembre dès 11h30 à Saint-Félix Venez découvrir une variété de saveurs\, déguster des plats authentiques et partager un moment convivial en famille ou entre amis.
CATEGORIES: Foire culinaire de l'association de Libèté
URL:https://www.villedugosier.fr/vivre-au-gosier/vie-associative-et-des-quartiers/actualites-associatives/article/9587?id_evenement=2517

STATUS:CONFIRMED
END:VEVENT
END:VCALENDAR

