BEGIN:VCALENDAR
VERSION:2.0
X-WR-TIMEZONE:America/Guadeloupe
CALSCALE:GREGORIAN
PRODID:-//IPEOS/Calendar//NONSGML v1.0//FR
X-WR-CALNAME;VALUE=TEXT:Ville du Gosier - Guadeloupe -  Swé lanmou pou gwoka spécial Noël
X-WR-CALDESC: Les Ballets Kmrod de l’AJSF vous invitent à un moment sportif\, culturel et convivial autour du swé o ka.    Mardi 9 décembre De 19h à 20h au local de l’association   Dresscode : ROUGE – VERT – BLANC  Participation : 10 €  (ké ni manjé é bwè)   Pensez à porter vos tennis et à prendre de l’eau.  Pwan on ti ban si ou lé pozé ant dé pas dansé.   Venez vivre un swé o ka mêlant musique\, tradition\, danse et convivialité\, dans une ambiance chaleureuse et culturelle.  Les Ballets Kmrod ka atann zot (…) 
X-WR-RELCALID:vivre-au-gosier/vie-associative-et-des-quartiers/actualites-associatives/article/9588
BEGIN:VEVENT
SUMMARY: Swé lanmou pou gwoka spécial Noël
UID:evenement2518 @ https://www.villedugosier.fr
DTSTAMP:20251204T143848Z
DTSTART:20251209T230000Z
DTEND:20251210T000000Z
CREATED:20251204T143848Z
LAST-MODIFIED:20251204T183848Z 
LOCATION:Local de l'association de l'AJSF
DESCRIPTION:Les Ballets Kmrod de l’AJSF vous invitent à un moment sportif\, culturel et convivial autour du swé o ka. Mardi 9 décembre De 19h à 20h au local de l’association Dresscode : ROUGE – VERT – BLANC Participation : 10 € (ké ni manjé é bwè) Pensez à porter vos tennis et à prendre de l’eau. Pwan on ti ban si ou lé pozé ant dé pas dansé. Venez vivre un swé o ka mêlant musique\, tradition\, danse et convivialité\, dans une ambiance chaleureuse et culturelle. Les Ballets Kmrod ka atann zot pou pasé an bon moman ansanm.
CATEGORIES: Swé lanmou pou gwoka spécial Noël
URL:https://www.villedugosier.fr/vivre-au-gosier/vie-associative-et-des-quartiers/actualites-associatives/article/9588?id_evenement=2518

STATUS:CONFIRMED
END:VEVENT
END:VCALENDAR

