BEGIN:VCALENDAR
VERSION:2.0
X-WR-TIMEZONE:America/Guadeloupe
CALSCALE:GREGORIAN
PRODID:-//IPEOS/Calendar//NONSGML v1.0//FR
X-WR-CALNAME;VALUE=TEXT:Ville du Gosier - Guadeloupe - Scouts et guides : partage de la Lumière
X-WR-CALDESC: Les Scouts et Guides du Gosier vous invitent à un moment de recueillement\, de partage et d’espérance autour de la traditionnelle Lumière de la Paix.    Samedi 06 décembre 2025 de 15h – 17h à la Chapelle de Mare-Gaillard   Cet événement\, ouvert à tous\, est l’occasion :  de recevoir et transmettre la flamme\, symbole de paix et de solidarité\, de vivre un temps spirituel et fraternel\, de se rassembler en communauté\, dans un esprit d’unité et d’ouverture.   Que vous soyez membre du mouvement\, (…) 
X-WR-RELCALID:vivre-au-gosier/vie-associative-et-des-quartiers/actualites-associatives/article/9589
BEGIN:VEVENT
SUMMARY:Scouts et guides : partage de la Lumière
UID:evenement2519 @ https://www.villedugosier.fr
DTSTAMP:20251204T144853Z
DTSTART:20251206T190000Z
DTEND:20251206T210000Z
CREATED:20251204T144853Z
LAST-MODIFIED:20251204T184853Z 
LOCATION:Chapelle de Mare-Gaillard\, le Gosier
DESCRIPTION:Les Scouts et Guides du Gosier vous invitent à un moment de recueillement\, de partage et d’espérance autour de la traditionnelle Lumière de la Paix. Samedi 06 décembre 2025 de 15h – 17h à la Chapelle de Mare-Gaillard Cet événement\, ouvert à tous\, est l’occasion : de recevoir et transmettre la flamme\, symbole de paix et de solidarité\, de vivre un temps spirituel et fraternel\, de se rassembler en communauté\, dans un esprit d’unité et d’ouverture. Que vous soyez membre du mouvement\, familles\, habitants du quartier ou simples visiteurs\, vous êtes chaleureusement conviés à partager ce moment unique\, porteur de sens et de lumière. Venez nombreux pour accueillir et faire rayonner la Lumière autour de vous.
CATEGORIES:Scouts et guides : partage de la Lumière
URL:https://www.villedugosier.fr/vivre-au-gosier/vie-associative-et-des-quartiers/actualites-associatives/article/9589?id_evenement=2519

STATUS:CONFIRMED
END:VEVENT
END:VCALENDAR

