BEGIN:VCALENDAR
VERSION:2.0
X-WR-TIMEZONE:America/Guadeloupe
CALSCALE:GREGORIAN
PRODID:-//IPEOS/Calendar//NONSGML v1.0//FR
X-WR-CALNAME;VALUE=TEXT:Ville du Gosier - Guadeloupe - Tournoi Galaxie – Tennis Club Montauban Gosier (TCMG)
X-WR-CALDESC: L’Association Tennis Club Montauban Gosier – TCMG a le plaisir d’organiser son Tournoi Galaxie\, un événement sportif destiné aux jeunes joueurs souhaitant progresser\, se challenger et partager un moment convivial autour du tennis.    Dates & Tarifs :   Samedi 6 décembre – 5 €   Dimanche 7 décembre – 12 €  Dimanche 14 décembre - 12€  Ce tournoi est l’occasion pour les enfants de :   développer leur esprit sportif\,   pratiquer dans un cadre bienveillant\,   rencontrer d’autres jeunes (…) 
X-WR-RELCALID:vivre-au-gosier/vie-associative-et-des-quartiers/actualites-associatives/article/9590
BEGIN:VEVENT
SUMMARY:Tournoi Galaxie – Tennis Club Montauban Gosier (TCMG)
UID:evenement2521 @ https://www.villedugosier.fr
DTSTAMP:20251204T151717Z
DTSTART:20251207T123000Z
DTEND:20251207T173000Z
CREATED:20251204T151717Z
LAST-MODIFIED:20251204T191717Z 
LOCATION:Terrain de tennis de Montauban\, Le Gosier
DESCRIPTION:L’Association Tennis Club Montauban Gosier – TCMG a le plaisir d’organiser son Tournoi Galaxie\, un événement sportif destiné aux jeunes joueurs souhaitant progresser\, se challenger et partager un moment convivial autour du tennis. Dates & Tarifs : Dimanche 7 décembre – 12 € Ce tournoi est l’occasion pour les enfants de : développer leur esprit sportif\, pratiquer dans un cadre bienveillant\, rencontrer d’autres jeunes passionnés\, vivre une expérience enrichissante au sein du club. Pour toute information ou inscription : 0690 99 12 67 tcmontauban971 chez gmail.com
CATEGORIES:Tournoi Galaxie – Tennis Club Montauban Gosier (TCMG)
URL:https://www.villedugosier.fr/vivre-au-gosier/vie-associative-et-des-quartiers/actualites-associatives/article/9590?id_evenement=2521

STATUS:CONFIRMED
END:VEVENT
END:VCALENDAR

