BEGIN:VCALENDAR
VERSION:2.0
X-WR-TIMEZONE:America/Guadeloupe
CALSCALE:GREGORIAN
PRODID:-//IPEOS/Calendar//NONSGML v1.0//FR
X-WR-CALNAME;VALUE=TEXT:Ville du Gosier - Guadeloupe - Chanté nwèl avec l’association Espoir de vivre
X-WR-CALDESC: L’association Espoir de Vivre vous invite à un chaleureux Chanté Nwèl placé sous le signe du partage\, de la tradition et de la bonne humeur.    Mercredi 10 décembre 2025 à 19h au local de l’association – Plateau Saint-Germain  19h  Un moment convivial pour chanter ensemble les classiques de Noël\, retrouver l’esprit des fêtes et profiter d’une soirée fraternelle et joyeuse.   Venez nombreux célébrer Nwèl an mizik é an lanmou ! 
X-WR-RELCALID:vivre-au-gosier/vie-associative-et-des-quartiers/actualites-associatives/article/9591
BEGIN:VEVENT
SUMMARY:Chanté nwèl avec l'association Espoir de vivre
UID:evenement2522 @ https://www.villedugosier.fr
DTSTAMP:20251204T153322Z
DTSTART:20251210T230000Z
DTEND:20251211T010000Z
CREATED:20251204T153322Z
LAST-MODIFIED:20251204T193328Z 
LOCATION:Local de l'association Espoir de vivre
DESCRIPTION:L’association Espoir de Vivre vous invite à un chaleureux Chanté Nwèl placé sous le signe du partage\, de la tradition et de la bonne humeur. Mercredi 10 décembre 2025 à 19h au local de l’association – Plateau Saint-Germain Un moment convivial pour chanter ensemble les classiques de Noël\, retrouver l’esprit des fêtes et profiter d’une soirée fraternelle et joyeuse. Venez nombreux célébrer Nwèl an mizik é an lanmou !
CATEGORIES:Chanté nwèl avec l'association Espoir de vivre
URL:https://www.villedugosier.fr/vivre-au-gosier/vie-associative-et-des-quartiers/actualites-associatives/article/9591?id_evenement=2522

STATUS:CONFIRMED
END:VEVENT
END:VCALENDAR

