BEGIN:VCALENDAR
VERSION:2.0
X-WR-TIMEZONE:America/Guadeloupe
CALSCALE:GREGORIAN
PRODID:-//IPEOS/Calendar//NONSGML v1.0//FR
X-WR-CALNAME;VALUE=TEXT:Ville du Gosier - Guadeloupe -  Restan nwèl : chanté Nwèl
X-WR-CALDESC: L’association vous invite à un Chanté Nwèl chaleureux et festif\, pour partager l’esprit de Noël autour des chants traditionnels\, de la convivialité et de la bonne humeur.    Vendredi 12 décembre dès 19h au local de l’association des jeunes de Saint-Félix  Un moment idéal pour se rassembler\, chanter ensemble et célébrer la magie des fêtes selon la tradition. 
X-WR-RELCALID:vivre-au-gosier/vie-associative-et-des-quartiers/actualites-associatives/article/9592
BEGIN:VEVENT
SUMMARY: Restan nwèl : chanté Nwèl
UID:evenement2523 @ https://www.villedugosier.fr
DTSTAMP:20251204T154647Z
DTSTART:20251212T230000Z
DTEND:20251213T023000Z
CREATED:20251204T154647Z
LAST-MODIFIED:20251204T194743Z 
LOCATION:Local de l'association de l'AJSF
DESCRIPTION:L’association vous invite à un Chanté Nwèl chaleureux et festif\, pour partager l’esprit de Noël autour des chants traditionnels\, de la convivialité et de la bonne humeur. Vendredi 12 décembre dès 19h au local de l’association des jeunes de Saint-Félix Un moment idéal pour se rassembler\, chanter ensemble et célébrer la magie des fêtes selon la tradition.
CATEGORIES: Restan nwèl : chanté Nwèl
URL:https://www.villedugosier.fr/vivre-au-gosier/vie-associative-et-des-quartiers/actualites-associatives/article/9592?id_evenement=2523

STATUS:CONFIRMED
END:VEVENT
END:VCALENDAR

