BEGIN:VCALENDAR
VERSION:2.0
X-WR-TIMEZONE:America/Guadeloupe
CALSCALE:GREGORIAN
PRODID:-//IPEOS/Calendar//NONSGML v1.0//FR
X-WR-CALNAME;VALUE=TEXT:Ville du Gosier - Guadeloupe - Marché de Noël avec l’APE FAPEG de Grand-Bois
X-WR-CALDESC: L’APE FAPEG de Grand-Bois vous invite à son Marché de Noël\, une journée dédiée à la découverte\, à la créativité et à la magie des fêtes.    Vendredi 12 décembre 2025 de 8h à 16h à l’ école Turenne Thénard de Grand-Bois   Au programme :   stands artisanaux et créations locales\,   décorations et idées cadeaux\,   gourmandises et douceurs de Noël\,   ambiance chaleureuse et familiale au cœur de l’école.   Parents\, enfants\, habitants du quartier et visiteurs :  Venez partager un moment convivial (…) 
X-WR-RELCALID:vivre-au-gosier/vie-associative-et-des-quartiers/actualites-associatives/article/9593
BEGIN:VEVENT
SUMMARY:Marché de Noël avec l'APE FAPEG de Grand-Bois
UID:evenement2524 @ https://www.villedugosier.fr
DTSTAMP:20251204T160723Z
DTSTART:20251212T120000Z
DTEND:20251212T200000Z
CREATED:20251204T160723Z
LAST-MODIFIED:20251204T200742Z 
LOCATION:École Turenne Thénard de Grand-Bois\, le Gosier
DESCRIPTION:L’APE FAPEG de Grand-Bois vous invite à son Marché de Noël\, une journée dédiée à la découverte\, à la créativité et à la magie des fêtes. Vendredi 12 décembre 2025 de 8h à 16h à l’ école Turenne Thénard de Grand-Bois Au programme : stands artisanaux et créations locales\, décorations et idées cadeaux\, gourmandises et douceurs de Noël\, ambiance chaleureuse et familiale au cœur de l’école. Parents\, enfants\, habitants du quartier et visiteurs : Venez partager un moment convivial et festif pour préparer Noël en beauté !
CATEGORIES:Marché de Noël avec l'APE FAPEG de Grand-Bois
URL:https://www.villedugosier.fr/vivre-au-gosier/vie-associative-et-des-quartiers/actualites-associatives/article/9593?id_evenement=2524

STATUS:CONFIRMED
END:VEVENT
END:VCALENDAR

