BEGIN:VCALENDAR
VERSION:2.0
X-WR-TIMEZONE:America/Guadeloupe
CALSCALE:GREGORIAN
PRODID:-//IPEOS/Calendar//NONSGML v1.0//FR
X-WR-CALNAME;VALUE=TEXT:Ville du Gosier - Guadeloupe -  Nwèl an Riviera en mouvement 
X-WR-CALDESC: L’association Riviera en Mouvement vous invite à son Marché de Noël\, une matinée pour découvrir des créations locales\, des idées cadeaux et des gourmandises\, dans une ambiance conviviale et festive. Samedi 13 décembre 2025 À 8h Au local de l’association    Dès 19h\,  un Chanté Nwèl chaleureux vous attend\, pour chanter ensemble les classiques de Noël et partager un moment de joie et de convivialité en famille ou entre amis.   Venez nombreux vivre une journée complète placée sous le signe de la (…) 
X-WR-RELCALID:vivre-au-gosier/vie-associative-et-des-quartiers/actualites-associatives/article/9594
BEGIN:VEVENT
SUMMARY: Nwèl an Riviera en mouvement 
UID:evenement2525 @ https://www.villedugosier.fr
DTSTAMP:20251204T161604Z
DTSTART:20251213T120000Z
DTEND:20251214T030000Z
CREATED:20251204T161604Z
LAST-MODIFIED:20251204T201610Z 
LOCATION:Route de la Riviera\, le Gosier
DESCRIPTION:L’association Riviera en Mouvement vous invite à son Marché de Noël\, une matinée pour découvrir des créations locales\, des idées cadeaux et des gourmandises\, dans une ambiance conviviale et festive. Samedi 13 décembre 2025 À 8h Au local de l’association Dès 19h\, un Chanté Nwèl chaleureux vous attend\, pour chanter ensemble les classiques de Noël et partager un moment de joie et de convivialité en famille ou entre amis. Venez nombreux vivre une journée complète placée sous le signe de la tradition et de la fête !
CATEGORIES: Nwèl an Riviera en mouvement 
URL:https://www.villedugosier.fr/vivre-au-gosier/vie-associative-et-des-quartiers/actualites-associatives/article/9594?id_evenement=2525

STATUS:CONFIRMED
END:VEVENT
END:VCALENDAR

