BEGIN:VCALENDAR
VERSION:2.0
X-WR-TIMEZONE:America/Guadeloupe
CALSCALE:GREGORIAN
PRODID:-//IPEOS/Calendar//NONSGML v1.0//FR
X-WR-CALNAME;VALUE=TEXT:Ville du Gosier - Guadeloupe - Chanté nwèl avec l’association Ti’kanno 
X-WR-CALDESC: L’association Ti Kanno vous invite à un Chanté Nwèl convivial et festif.    Venez partager un moment chaleureux autour des chants traditionnels de Noël\, dans une ambiance familiale et pleine de joie.   Samedi 13 décembre 2025  Au local de l’association – Leroux  19h   Participation : chaque personne est invitée à ramener quelque chose à partager.   Venez nombreux pour célébrer Nwèl ansanm ! 
X-WR-RELCALID:vivre-au-gosier/vie-associative-et-des-quartiers/actualites-associatives/article/9595
BEGIN:VEVENT
SUMMARY:Chanté nwèl avec l'association Ti'kanno 
UID:evenement2526 @ https://www.villedugosier.fr
DTSTAMP:20251204T162406Z
DTSTART:20251213T230000Z
DTEND:20251214T033000Z
CREATED:20251204T162406Z
LAST-MODIFIED:20251204T202428Z 
LOCATION:Local de l'association Ti'kanno\, Leroux\, le Gosier
DESCRIPTION:L’association Ti Kanno vous invite à un Chanté Nwèl convivial et festif. Venez partager un moment chaleureux autour des chants traditionnels de Noël\, dans une ambiance familiale et pleine de joie. Samedi 13 décembre 2025 Au local de l’association – Leroux 19h Participation : chaque personne est invitée à ramener quelque chose à partager. Venez nombreux pour célébrer Nwèl ansanm !
CATEGORIES:Chanté nwèl avec l'association Ti'kanno 
URL:https://www.villedugosier.fr/vivre-au-gosier/vie-associative-et-des-quartiers/actualites-associatives/article/9595?id_evenement=2526

STATUS:CONFIRMED
END:VEVENT
END:VCALENDAR

