BEGIN:VCALENDAR
VERSION:2.0
X-WR-TIMEZONE:America/Guadeloupe
CALSCALE:GREGORIAN
PRODID:-//IPEOS/Calendar//NONSGML v1.0//FR
X-WR-CALNAME;VALUE=TEXT:Ville du Gosier - Guadeloupe - Partage de la Lumière et Chanté Nwèl avec réveil de Grand bois\, scouts et guides
X-WR-CALDESC: Les associations Réveil de Grand Bois et Scouts et Guides vous invitent à un moment unique mêlant Partage de la Lumière et Chanté Nwèl.    Samedi 13 décembre 2025 au local de l’association – Grand-Bois dès 20h  Un événement convivial et ouvert à tous pour célébrer la solidarité\, la tradition et l’esprit de Noël.  Venez nombreux pour partager la lumière\, chanter et passer un moment chaleureux ensemble ! 
X-WR-RELCALID:vivre-au-gosier/vie-associative-et-des-quartiers/actualites-associatives/article/9596
BEGIN:VEVENT
SUMMARY:Partage de la Lumière et Chanté Nwèl avec réveil de Grand bois\, scouts et guides
UID:evenement2527 @ https://www.villedugosier.fr
DTSTAMP:20251204T163555Z
DTSTART:20251214T000000Z
DTEND:20251214T030000Z
CREATED:20251204T163555Z
LAST-MODIFIED:20251204T203700Z 
LOCATION:Au local de l’association – Grand-Bois
DESCRIPTION:Les associations Réveil de Grand Bois et Scouts et Guides vous invitent à un moment unique mêlant Partage de la Lumière et Chanté Nwèl. Samedi 13 décembre 2025 Au local de l’association de Grand-Bois dès 20h Un événement convivial et ouvert à tous pour célébrer la solidarité\, la tradition et l’esprit de Noël. Venez nombreux pour partager la lumière\, chanter et passer un moment chaleureux ensemble !
CATEGORIES:Partage de la Lumière et Chanté Nwèl avec réveil de Grand bois\, scouts et guides
URL:https://www.villedugosier.fr/vivre-au-gosier/vie-associative-et-des-quartiers/actualites-associatives/article/9596?id_evenement=2527

STATUS:CONFIRMED
END:VEVENT
END:VCALENDAR

