BEGIN:VCALENDAR
VERSION:2.0
X-WR-TIMEZONE:America/Guadeloupe
CALSCALE:GREGORIAN
PRODID:-//IPEOS/Calendar//NONSGML v1.0//FR
X-WR-CALNAME;VALUE=TEXT:Ville du Gosier - Guadeloupe - Foot’o ka avec l’AJSF 
X-WR-CALDESC: L’AJSF vous invite à participer à Foot’O Ka\, un événement sportif alliant football et musique traditionnelle.    Dimanche 14 décembre 2025 à 9h au Terrain de Basket Saint-Félix   Venez partager un moment dynamique et convivial\, idéal pour les sportifs et les passionnés de culture locale.   Venez nombreux pour jouer\, vibrer et passer un bon moment ensemble ! 
X-WR-RELCALID:vivre-au-gosier/vie-associative-et-des-quartiers/actualites-associatives/article/9597
BEGIN:VEVENT
SUMMARY:Foot'o ka avec l'AJSF 
UID:evenement2529 @ https://www.villedugosier.fr
DTSTAMP:20251204T165750Z
DTSTART:20251214T130000Z
DTEND:20251214T163000Z
CREATED:20251204T165750Z
LAST-MODIFIED:20251204T210008Z 
LOCATION:Terrain de Basket Saint-Félix (près du local de l'association AJSF)
DESCRIPTION:L’AJSF vous invite à participer à Foot’O Ka\, un événement sportif alliant football et musique traditionnelle. Dimanche 14 décembre 2025 à 9h au Terrain de Basket Saint-Félix Venez partager un moment dynamique et convivial\, idéal pour les sportifs et les passionnés de culture locale. Venez nombreux pour jouer\, vibrer et passer un bon moment ensemble !
CATEGORIES:Foot'o ka avec l'AJSF 
URL:https://www.villedugosier.fr/vivre-au-gosier/vie-associative-et-des-quartiers/actualites-associatives/article/9597?id_evenement=2529

STATUS:CONFIRMED
END:VEVENT
END:VCALENDAR

