BEGIN:VCALENDAR
VERSION:2.0
X-WR-TIMEZONE:America/Guadeloupe
CALSCALE:GREGORIAN
PRODID:-//IPEOS/Calendar//NONSGML v1.0//FR
X-WR-CALNAME;VALUE=TEXT:Ville du Gosier - Guadeloupe - Chanté nwèl des habitants de Labrousse
X-WR-CALDESC: Les habitants de Labrousse vous invitent à un Chanté Nwèl convivial et festif.    Dimanche 14 décembre 2025 au local de l’association – Labrousse dès 19h  Venez partager un moment chaleureux autour des chants traditionnels de Noël\, dans une ambiance familiale et pleine de joie.  Venez nombreux célébrer Nwèl ansanm ! 
X-WR-RELCALID:vivre-au-gosier/vie-associative-et-des-quartiers/actualites-associatives/article/9598
BEGIN:VEVENT
SUMMARY:Chanté nwèl des habitants de Labrousse
UID:evenement2530 @ https://www.villedugosier.fr
DTSTAMP:20251204T171017Z
DTSTART:20251214T230000Z
DTEND:20251215T030000Z
CREATED:20251204T171017Z
LAST-MODIFIED:20251204T211022Z 
LOCATION:local de l’association – Labrousse\, le Gosier
DESCRIPTION:Les habitants de Labrousse vous invitent à un Chanté Nwèl convivial et festif. Dimanche 14 décembre 2025 au local de l’association – Labrousse dès 19h Venez partager un moment chaleureux autour des chants traditionnels de Noël\, dans une ambiance familiale et pleine de joie. Venez nombreux célébrer Nwèl ansanm !
CATEGORIES:Chanté nwèl des habitants de Labrousse
URL:https://www.villedugosier.fr/vivre-au-gosier/vie-associative-et-des-quartiers/actualites-associatives/article/9598?id_evenement=2530

STATUS:CONFIRMED
END:VEVENT
END:VCALENDAR

