BEGIN:VCALENDAR
VERSION:2.0
X-WR-TIMEZONE:America/Guadeloupe
CALSCALE:GREGORIAN
PRODID:-//IPEOS/Calendar//NONSGML v1.0//FR
X-WR-CALNAME;VALUE=TEXT:Ville du Gosier - Guadeloupe - Marché de Noël avec l’association Gommier
X-WR-CALDESC: L’ASC Gommier vous invite à son Marché de Noël\, une matinée conviviale pour découvrir des créations locales\, des idées cadeaux et des gourmandises de saison.    Dimanche 14 décembre 2025 au local de l’association – Beaumanoir dès 8h  Un moment festif et familial pour préparer Noël tout en partageant la joie et la bonne humeur.   Venez nombreux pour vivre un moment chaleureux et festif ! 
X-WR-RELCALID:vivre-au-gosier/vie-associative-et-des-quartiers/actualites-associatives/article/9599
BEGIN:VEVENT
SUMMARY:Marché de Noël avec l'association Gommier
UID:evenement2531 @ https://www.villedugosier.fr
DTSTAMP:20251204T173804Z
DTSTART:20251214T123000Z
DTEND:20251214T183600Z
CREATED:20251204T173804Z
LAST-MODIFIED:20251204T213809Z 
LOCATION:Local de l'association de l'Asc le Gommier
DESCRIPTION:L’ASC Gommier vous invite à son Marché de Noël\, une matinée conviviale pour découvrir des créations locales\, des idées cadeaux et des gourmandises de saison. Dimanche 14 décembre 2025 au local de l’association – Beaumanoir dès 8h Un moment festif et familial pour préparer Noël tout en partageant la joie et la bonne humeur. Venez nombreux pour vivre un moment chaleureux et festif !
CATEGORIES:Marché de Noël avec l'association Gommier
URL:https://www.villedugosier.fr/vivre-au-gosier/vie-associative-et-des-quartiers/actualites-associatives/article/9599?id_evenement=2531

STATUS:CONFIRMED
END:VEVENT
END:VCALENDAR

