BEGIN:VCALENDAR
VERSION:2.0
X-WR-TIMEZONE:America/Guadeloupe
CALSCALE:GREGORIAN
PRODID:-//IPEOS/Calendar//NONSGML v1.0//FR
X-WR-CALNAME;VALUE=TEXT:Ville du Gosier - Guadeloupe -  Chanté nwèl avec l’association AJSF
X-WR-CALDESC: L’AJSF vous invite à un grand Chanté Nwèl le samedi 20 décembre 2025\, à partir de 19h\, au local de l’association à Saint-Félix.    Comme chaque année\, ce moment privilégié sera l’occasion de se retrouver autour des chants traditionnels de Noël\, de partager la magie des fêtes et de célébrer la tradition antillaise dans une ambiance chaleureuse et familiale.   Que vous soyez chanteurs passionnés\, amateurs de Nwèl\, habitants du quartier\, en famille ou entre amis\, vous êtes tous les bienvenus (…) 
X-WR-RELCALID:vivre-au-gosier/vie-associative-et-des-quartiers/actualites-associatives/article/9605
BEGIN:VEVENT
SUMMARY: Chanté nwèl avec l'association AJSF
UID:evenement2533 @ https://www.villedugosier.fr
DTSTAMP:20251208T134830Z
DTSTART:20251220T230000Z
DTEND:20251221T030000Z
CREATED:20251208T134830Z
LAST-MODIFIED:20251208T174905Z 
LOCATION:Local de l'association de l'AJSF
DESCRIPTION:L’AJSF vous invite à un Chanté Nwèl chaleureux et convivial afin de partager ensemble les chants traditionnels de Noël dans une ambiance familiale et festive. Samedi 20 décembre 2025 Au local de l’association – Saint-Félix 19h Venez nombreux célébrer Nwèl ansanm !
CATEGORIES: Chanté nwèl avec l'association AJSF
URL:https://www.villedugosier.fr/vivre-au-gosier/vie-associative-et-des-quartiers/actualites-associatives/article/9605?id_evenement=2533

STATUS:CONFIRMED
END:VEVENT
END:VCALENDAR

