BEGIN:VCALENDAR
VERSION:2.0
X-WR-TIMEZONE:America/Guadeloupe
CALSCALE:GREGORIAN
PRODID:-//IPEOS/Calendar//NONSGML v1.0//FR
X-WR-CALNAME;VALUE=TEXT:Ville du Gosier - Guadeloupe - Chanté nwèl avec l’association Leroux avenir club
X-WR-CALDESC: Le Leroux Avenir Club a le plaisir de vous inviter à son grand Chanté Nwèl\, le samedi 20 décembre 2025 à partir de 19h30\, au local de l’association à Leroux.    Cette soirée sera l’occasion de se réunir autour des chants traditionnels de Noël\, de retrouver l’ambiance chaleureuse des fêtes de fin d’année et de partager un moment convivial en famille\, entre voisins ou entre amis.   Au programme : bonne humeur\, traditions\, échanges\, et bien sûr les incontournables chants de Noël qui font vibrer (…) 
X-WR-RELCALID:vivre-au-gosier/vie-associative-et-des-quartiers/actualites-associatives/article/9606
BEGIN:VEVENT
SUMMARY:Chanté nwèl avec l'association Leroux avenir club
UID:evenement2534 @ https://www.villedugosier.fr
DTSTAMP:20251208T135739Z
DTSTART:20251220T233000Z
DTEND:20251221T030000Z
CREATED:20251208T135739Z
LAST-MODIFIED:20251208T175808Z 
LOCATION:Local de l'association Leroux 
DESCRIPTION:Le Leroux Avenir Club vous invite à un Chanté Nwèl festif et convivial. 📅 Samedi 20 décembre 2025 📍 Au local de l’association – Leroux 🕤 19h30 Venez partager une soirée chaleureuse autour des chants traditionnels de Noël\, dans une ambiance familiale et pleine de bonne humeur. Venez nombreux célébrer Nwèl ansanm !
CATEGORIES:Chanté nwèl avec l'association Leroux avenir club
URL:https://www.villedugosier.fr/vivre-au-gosier/vie-associative-et-des-quartiers/actualites-associatives/article/9606?id_evenement=2534

STATUS:CONFIRMED
END:VEVENT
END:VCALENDAR

