BEGIN:VCALENDAR
VERSION:2.0
X-WR-TIMEZONE:America/Guadeloupe
CALSCALE:GREGORIAN
PRODID:-//IPEOS/Calendar//NONSGML v1.0//FR
X-WR-CALNAME;VALUE=TEXT:Ville du Gosier - Guadeloupe - Chanté nwèl avec Sam’hérité
X-WR-CALDESC: L’association Sam’ Hérité vous invite à son grand Chanté Nwèl\, le dimanche 21 décembre 2025 à partir de 20h\, au local de l’association ASC Gommier.    Cette soirée sera l’occasion de partager les chants traditionnels de Noël\, de retrouver l’ambiance chaleureuse de Nwèl et de vivre un moment convivial\, en famille\, entre amis ou avec les habitants du quartier.   Dans une atmosphère festive et pleine de traditions\, nous vous invitons à chanter\, échanger\, et célébrer ensemble la magie de Noël. (…) 
X-WR-RELCALID:vivre-au-gosier/vie-associative-et-des-quartiers/actualites-associatives/article/9607
BEGIN:VEVENT
SUMMARY:Chanté nwèl avec Sam'hérité
UID:evenement2535 @ https://www.villedugosier.fr
DTSTAMP:20251208T140742Z
DTSTART:20251222T000000Z
DTEND:20251222T030000Z
CREATED:20251208T140742Z
LAST-MODIFIED:20251209T202421Z 
LOCATION:Local de l'association de l'Asc le Gommier
DESCRIPTION:Sam’ Hérité vous invite à un Chanté Nwèl chaleureux et festif afin de célébrer ensemble les chants traditionnels de Noël\, dans une ambiance familiale\, conviviale et pleine de bonne humeur. Dimanche 21 décembre 2025 Au local de l’association ASC Gommier 20h Venez partager un moment placé sous le signe de la tradition\, de la musique et de la joie\, et profiter de la magie des fêtes en communauté.
CATEGORIES:Chanté nwèl avec Sam'hérité
URL:https://www.villedugosier.fr/vivre-au-gosier/vie-associative-et-des-quartiers/actualites-associatives/article/9607?id_evenement=2535

STATUS:CONFIRMED
END:VEVENT
END:VCALENDAR

