BEGIN:VCALENDAR
VERSION:2.0
X-WR-TIMEZONE:America/Guadeloupe
CALSCALE:GREGORIAN
PRODID:-//IPEOS/Calendar//NONSGML v1.0//FR
X-WR-CALNAME;VALUE=TEXT:Ville du Gosier - Guadeloupe - Fééries de Noël au Gosier 
X-WR-CALDESC: Les Fééries de Noël sont de retour au Gosier...  Une programmation qui fait la part belle aux traditions musicales avec 2 soirées de Chanté Nwèl ainsi qu’une chorale itinérante lors de la soirée du marché des saveurs et du village de Noël  Chanté Nwèl avec Kasika   Samedi 13 décembre\, de 20h à 23h  Boulodrome de la Datcha\, bourg du Gosier  Pa oubliyé kantik a zòt !  Repas de Noël des aînés   - inscription obligatoire au cabinet du maire avec pièces à fournir -   Jeudi 18 décembre à partir de (…) 
X-WR-RELCALID:que-faire-au-gosier/attractivite-du-territoire/actualites/article/feeries-de-noel-au-gosier
BEGIN:VEVENT
SUMMARY:Marché des saveurs & Village de Noël
UID:evenement2538 @ https://www.villedugosier.fr
DTSTAMP:20251208T162314Z
DTSTART:20251219T200000Z
DTEND:20251220T010000Z
CREATED:20251208T162314Z
LAST-MODIFIED:20251208T202314Z 
LOCATION:Parking Anse Tabarin & parc paysager du Calvaire
DESCRIPTION:Dans le cadre des Fééries de Noël\, la Ville du Gosier propose à des artisans\, agro-transformateurs d'exposer et de vendre des douceurs et saveurs de Noël au sein d'un Village de Noël\, en complément du marché traditionnel du vendredi. L'occasion de déambuler à travers divers stands gourmands aux saveurs et senteurs de Noël\, sur fond d'animations pour toute la famille.
CATEGORIES:Fééries de Noël au Gosier 
URL:https://www.villedugosier.fr/que-faire-au-gosier/attractivite-du-territoire/actualites/article/feeries-de-noel-au-gosier?id_evenement=2538

STATUS:CONFIRMED
END:VEVENT
END:VCALENDAR

