BEGIN:VCALENDAR
VERSION:2.0
X-WR-TIMEZONE:America/Guadeloupe
CALSCALE:GREGORIAN
PRODID:-//IPEOS/Calendar//NONSGML v1.0//FR
X-WR-CALNAME;VALUE=TEXT:Ville du Gosier - Guadeloupe - Opération de maintenance EDF du 8 au 12 décembre 2025
X-WR-CALDESC: Dans le cadre de ses opérations de maintenance préventive\, EDF Archipel Guadeloupe a commandé une prestation externe d’inspection de ses lignes haute tension par hélicoptère.    Il est prévu le survol tous les réseaux aériens HTA (550 km) et HTB (220 km) pour relever les anomalies (iso cassés\, corrosion avancée\, fils détoronnés\, végétation trop proche\, construction récente trop proche\, etc)   La mission de 5 jours\, a débuté hier lundi 8 décembre et prendra fin vendredi 12 décembre 2025.  EDF (…) 
X-WR-RELCALID:services-demarches/les-services-publics-non-municipaux/edf-archipel-guadeloupe/article/operation-de-maintenance-edf-du-8-au-12-decembre-2025
BEGIN:VEVENT
SUMMARY:Opération de maintenance EDF du 8 au 12 décembre 2025
UID:evenement2540 @ https://www.villedugosier.fr
DTSTAMP:20251209T122140Z
DTSTART;VALUE=DATE:20251208
DTEND;VALUE=DATE:20251213
CREATED:20251209T122140Z
LAST-MODIFIED:20251209T162140Z 
LOCATION:Dans le ciel Gosiérien... 
DESCRIPTION:Dans le cadre de ses opérations de maintenance préventive\, EDF Archipel Guadeloupe a commandé une prestation externe d’inspection de ses lignes haute tension par hélicoptère. Il est prévu le survol tous les réseaux aériens HTA (550 km) et HTB (220 km) pour relever les anomalies (iso cassés\, corrosion avancée\, fils détoronnés\, végétation trop proche\, construction récente trop proche\, etc) La mission de 5 jours\, a débuté hier lundi 8 décembre et prendra fin vendredi 12 décembre 2025. EDF Archipel Guadeloupe souhaite rassurer les riverains du Gosier en cas de constatation de survol à basse altitude et à faible vitesse non loin des zones d’habitation. 𝘗𝘩𝘰𝘵𝘰 𝘥𝘦 𝘐𝘴𝘢𝘢𝘤 𝘉𝘦𝘯𝘩𝘦𝘴𝘦𝘥 𝘴𝘶𝘳 𝘜𝘯𝘴𝘱𝘭𝘢𝘴𝘩
CATEGORIES:Opération de maintenance EDF du 8 au 12 décembre 2025
URL:https://www.villedugosier.fr/services-demarches/les-services-publics-non-municipaux/edf-archipel-guadeloupe/article/operation-de-maintenance-edf-du-8-au-12-decembre-2025?id_evenement=2540

STATUS:CONFIRMED
END:VEVENT
END:VCALENDAR

