BEGIN:VCALENDAR
VERSION:2.0
X-WR-TIMEZONE:America/Guadeloupe
CALSCALE:GREGORIAN
PRODID:-//IPEOS/Calendar//NONSGML v1.0//FR
X-WR-CALNAME;VALUE=TEXT:Ville du Gosier - Guadeloupe - Chanté nwèl avec l’association Miksaj 
X-WR-CALDESC: L’association SAM Hérité a le plaisir d’inviter l’ensemble de la population à son grand Chanté Nwèl\, le mardi 23 décembre 2025\, à partir de 19h\, dans la cour de l’école de Pliane.    Cette soirée conviviale et chaleureuse sera l’occasion de partager les chants traditionnels de Noël\, de vivre l’ambiance festive des fêtes de fin d’année et de renouer avec une belle tradition de notre patrimoine culturel.   En famille\, entre amis ou avec les habitants du quartier\, chacun est invité à venir (…) 
X-WR-RELCALID:vivre-au-gosier/vie-associative-et-des-quartiers/actualites-associatives/article/9610
BEGIN:VEVENT
SUMMARY:Chanté nwèl avec l'association Miksaj 
UID:evenement2541 @ https://www.villedugosier.fr
DTSTAMP:20251209T185658Z
DTSTART:20251223T230000Z
DTEND:20251224T023000Z
CREATED:20251209T185658Z
LAST-MODIFIED:20251209T225703Z 
LOCATION:École Médard Méri\, Le Gosier
DESCRIPTION:L'associations SAM Hérité vous invitent à un Chanté Nwèl chaleureux et convivial. Mardi 23 décembre 2025 Cour de l'école de Pliane 19h Venez partager un moment festif autour des chants traditionnels de Noël\, dans une ambiance familiale et pleine de joie. Venez nombreux pour célébrer Nwèl ansanm !
CATEGORIES:Chanté nwèl avec l'association Miksaj 
URL:https://www.villedugosier.fr/vivre-au-gosier/vie-associative-et-des-quartiers/actualites-associatives/article/9610?id_evenement=2541

STATUS:CONFIRMED
END:VEVENT
END:VCALENDAR

