BEGIN:VCALENDAR
VERSION:2.0
X-WR-TIMEZONE:America/Guadeloupe
CALSCALE:GREGORIAN
PRODID:-//IPEOS/Calendar//NONSGML v1.0//FR
X-WR-CALNAME;VALUE=TEXT:Ville du Gosier - Guadeloupe - Tradiswé nwèl avec l’association le nouveau bleu vert noir
X-WR-CALDESC: Le Nouveau Bleu Vert Noir organise\, ce mardi 23 décembre 2025 à partir de 20h\, son TradiSwè Nwèl sur le terrain de basket de Saint-Félix.    Cet événement original et festif propose de mêler la passion du football aux rythmes traditionnels de Nwèl. L’objectif : partager un moment sportif\, culturel et convivial\, tout en faisant vivre nos traditions dans une ambiance chaleureuse.   Au programme : du jeu\, de la musique\, de l’énergie et surtout beaucoup de bonne humeur. Que vous soyez joueurs\, (…) 
X-WR-RELCALID:vivre-au-gosier/vie-associative-et-des-quartiers/actualites-associatives/article/9611
BEGIN:VEVENT
SUMMARY:Tradiswé nwèl avec l'association le nouveau bleu vert noir
UID:evenement2542 @ https://www.villedugosier.fr
DTSTAMP:20251209T185951Z
DTSTART:20251224T000000Z
DTEND:20251224T030000Z
CREATED:20251209T185951Z
LAST-MODIFIED:20251209T225957Z 
LOCATION:Stade de Montauban\, Roger Zami le Gosier
DESCRIPTION:Le Nouveau Bleu Vert Noir vous invite à participer au TradiSwè Nwèl\, un événement sportif alliant football et musique traditionnelle. Mardi 23 décembre 2025 Terrain de Basket – Saint-Félix 20h Venez partager un moment dynamique et convivial\, mêlant esprit sportif\, culture locale et ambiance festive. Cet évènement inédit est l’occasion de jouer\, vibrer\, danser et célébrer Nwèl selon nos traditions. En famille\, entre amis ou entre passionnés\, vous êtes tous invités à profiter d’une soirée originale\, chaleureuse et pleine d’énergie. Venez nombreux pour jouer\, vibrer et passer un bon moment ansanm !
CATEGORIES:Tradiswé nwèl avec l'association le nouveau bleu vert noir
URL:https://www.villedugosier.fr/vivre-au-gosier/vie-associative-et-des-quartiers/actualites-associatives/article/9611?id_evenement=2542

STATUS:CONFIRMED
END:VEVENT
END:VCALENDAR

