BEGIN:VCALENDAR
VERSION:2.0
X-WR-TIMEZONE:America/Guadeloupe
CALSCALE:GREGORIAN
PRODID:-//IPEOS/Calendar//NONSGML v1.0//FR
X-WR-CALNAME;VALUE=TEXT:Ville du Gosier - Guadeloupe - Goziéval 2026\, le carnaval du Gosier
X-WR-CALDESC: Le Gosier s’apprête à vibrer au rythme du Goziéval\, l’événement carnavalesque incontournable de la saison. Rendez-vous du 21 au 24 janvier 2026 pour quatre jours de fête\, placés autour de la thématique "Tanbou é flanm : le feu sacré du carnaval"   Le Goziéval est organisé par le Komité Gozié Kannaval (KGK) et la Ville du Gosier.  Programme   Mercredi 21 janvier 2026 • 14h   Départ Pôle administratif   arrivée stade de Montauban (prévue à 16h30)  Ti Goziéval\, carnaval des enfants   Pour sa (…) 
X-WR-RELCALID:que-faire-au-gosier/culture-patrimoine-et-pratiques-artistiques/actualites/article/gozieval-2026-le-carnaval-du-gosier
BEGIN:VEVENT
SUMMARY:Concert Mizik a Mas a po
UID:evenement2565 @ https://www.villedugosier.fr
DTSTAMP:20260119T162402Z
DTSTART:20260123T233000Z
DTEND:20260124T023000Z
CREATED:20260119T162402Z
LAST-MODIFIED:20260119T202402Z 
LOCATION:Boulodrome de la Datcha\, bourg du Gosier
DESCRIPTION:Le concert Mizik a Mas a Po vous donne rendez-vous le vendredi 23 janvier 2025 pour une soirée exceptionnelle placée sous le signe de la culture et de la tradition. Sur scène\, retrouvez les groupes emblématiques Mas A Yo\, Voukoum et Akiyo
CATEGORIES:Goziéval 2026\, le carnaval du Gosier
URL:https://www.villedugosier.fr/que-faire-au-gosier/culture-patrimoine-et-pratiques-artistiques/actualites/article/gozieval-2026-le-carnaval-du-gosier?id_evenement=2565

STATUS:CONFIRMED
END:VEVENT
END:VCALENDAR

