BEGIN:VCALENDAR
VERSION:2.0
X-WR-TIMEZONE:America/Guadeloupe
CALSCALE:GREGORIAN
PRODID:-//IPEOS/Calendar//NONSGML v1.0//FR
X-WR-CALNAME;VALUE=TEXT:Ville du Gosier - Guadeloupe -  Déboulé Kongo Karayib
X-WR-CALDESC: L’association carnavalesque Le Pwen d’Interrogation organise son traditionnel déboulé Kongo Karayib qui se tiendra le samedi 14 février 2026.    Le départ est prévu à 11h depuis le stade Zorobabel aux Abymes\, pour une arrivée aux alentours de 15h à l’Anse-Tabarin au Gosier.   Cet événement festif promet une ambiance rythmée et conviviale tout au long du parcours.  Des perturbations de circulation sont à prévoir. Nous invitons les usagers à anticiper leurs déplacements. 
X-WR-RELCALID:vivre-au-gosier/vie-associative-et-des-quartiers/actualites-associatives/article/9760
BEGIN:VEVENT
SUMMARY: Déboulé Kongo Karayib
UID:evenement2566 @ https://www.villedugosier.fr
DTSTAMP:20260119T165019Z
DTSTART:20260214T150000Z
DTEND:20260214T190000Z
CREATED:20260119T165019Z
LAST-MODIFIED:20260119T205337Z 
LOCATION:Plage de l'Anse-tabarin 
DESCRIPTION:L’association carnavalesque Le Pwen d’Interrogation organise son traditionnel déboulé Kongo Karayib qui se tiendra le samedi 14 février 2026. Le départ est prévu à 11h depuis le stade Zorobabel aux Abymes\, pour une arrivée aux alentours de 15h à l’Anse-Tabarin au Gosier. Cet événement festif promet une ambiance rythmée et conviviale tout au long du parcours. Des perturbations de circulation sont à prévoir. Nous invitons les usagers à anticiper leurs déplacements.
CATEGORIES: Déboulé Kongo Karayib
URL:https://www.villedugosier.fr/vivre-au-gosier/vie-associative-et-des-quartiers/actualites-associatives/article/9760?id_evenement=2566

STATUS:CONFIRMED
END:VEVENT
END:VCALENDAR

