BEGIN:VCALENDAR
VERSION:2.0
X-WR-TIMEZONE:America/Guadeloupe
CALSCALE:GREGORIAN
PRODID:-//IPEOS/Calendar//NONSGML v1.0//FR
X-WR-CALNAME;VALUE=TEXT:Ville du Gosier - Guadeloupe - Animation au marché avec Ti kanno
X-WR-CALDESC: Le vendredi 23 janvier 2026\, le groupe Ti Kan’No vous donne rendez-vous sur le marché agricole du Gosier pour une foire sucré-salé placée sous le signe de la convivialité et du partage.    Au menu :   Soupe de bœuf  Grillades    Dès 18h30   Animation musicale assurée   Venez nombreux profiter d’un moment chaleureux entre saveurs locales et bonne ambiance !   Infos :  0690 28 35 38 / 0690 33 33 27 
X-WR-RELCALID:vivre-au-gosier/vie-associative-et-des-quartiers/actualites-associatives/article/9769
BEGIN:VEVENT
SUMMARY:Animation au marché avec Ti kanno
UID:evenement2567 @ https://www.villedugosier.fr
DTSTAMP:20260122T141854Z
DTSTART:20260123T183000Z
DTEND:20260124T000000Z
CREATED:20260122T141854Z
LAST-MODIFIED:20260122T181854Z 
LOCATION:Plage de l'Anse-tabarin 
DESCRIPTION:Le vendredi 23 janvier 2026\, le groupe Ti Kan’No vous donne rendez-vous sur le marché agricole du Gosier pour une foire sucré-salé placée sous le signe de la convivialité et du partage. Au menu : Soupe de bœuf Grillades Dès 18h30 Animation musicale assurée Venez nombreux profiter d’un moment chaleureux entre saveurs locales et bonne ambiance ! Infos : 0690 28 35 38 / 0690 33 33 27
CATEGORIES:Animation au marché avec Ti kanno
URL:https://www.villedugosier.fr/vivre-au-gosier/vie-associative-et-des-quartiers/actualites-associatives/article/9769?id_evenement=2567

STATUS:CONFIRMED
END:VEVENT
END:VCALENDAR

