BEGIN:VCALENDAR
VERSION:2.0
X-WR-TIMEZONE:America/Guadeloupe
CALSCALE:GREGORIAN
PRODID:-//IPEOS/Calendar//NONSGML v1.0//FR
X-WR-CALNAME;VALUE=TEXT:Ville du Gosier - Guadeloupe - Soirée carnavalesque – Jis Kon La Jistis
X-WR-CALDESC: L’Association Pointe de la Verdure a le plaisir de vous inviter à une soirée carnavalesque originale et festive\, placée sous le signe de la musique\, du déguisement et de la bonne humeur.    Rendez-vous le lundi 16 février 2026\, à partir de 20h\, au local de Montauban\, pour une nuit haute en couleurs où le carnaval s’exprime autrement : entre satire\, fête et esprit de partage… jis kon la jistis !   L’ambiance musicale sera assurée par DJ VIN’S\, qui vous fera danser tout au long de la soirée. (…) 
X-WR-RELCALID:vivre-au-gosier/vie-associative-et-des-quartiers/actualites-associatives/article/9774
BEGIN:VEVENT
SUMMARY: SOIRÉE CARNAVALESQUE : JIS KON LA JISTIS
UID:evenement2568 @ https://www.villedugosier.fr
DTSTAMP:20260123T160947Z
DTSTART:20260217T000000Z
DTEND:20260217T030000Z
CREATED:20260123T160947Z
LAST-MODIFIED:20260123T201228Z 
LOCATION:local de l’association Pointe de la verdure – Montauban\, Gosier
DESCRIPTION:L’Association Pointe de la Verdure a le plaisir de vous inviter à une soirée carnavalesque originale et festive\, placée sous le signe de la musique\, du déguisement et de la convivialité. Rendez-vous le lundi 16 février 2026\, à partir de 20h\, au local de Montauban\, pour une soirée où le carnaval s’exprime à travers la fête\, la satire et l’esprit de partage\, autour du thème Jis Kon La Jistis. L’ambiance musicale sera assurée par DJ VIN’S\, qui animera la soirée tout au long de l’événement. Dress code Les participants sont invités à venir déguisés selon le thème : brigand\, policier\, gendarme\, juge\, avocat\, ou toute autre interprétation inspirée. Une tenue noire ou blanche est recommandée. Restauration et bar Une offre de restauration sera disponible sur place. Bar payant\, avec champagne à la demande. Tarifs Prévente : 30 € Sur place : 35 € Paiement en ligne disponible. Informations et réservations 0690 539 659 / 0690 642 504 Date limite de réservation : 10 février 2026. Venez partager une soirée carnavalesque conviviale et rythmée\, mêlant musique\, déguisements et ambiance festive.
CATEGORIES:Soirée carnavalesque – Jis Kon La Jistis
URL:https://www.villedugosier.fr/vivre-au-gosier/vie-associative-et-des-quartiers/actualites-associatives/article/9774?id_evenement=2568

STATUS:CONFIRMED
END:VEVENT
END:VCALENDAR

