BEGIN:VCALENDAR
VERSION:2.0
X-WR-TIMEZONE:America/Guadeloupe
CALSCALE:GREGORIAN
PRODID:-//IPEOS/Calendar//NONSGML v1.0//FR
X-WR-CALNAME;VALUE=TEXT:Ville du Gosier - Guadeloupe - Ateliers d’insertion professionnelle à la Médiathèque du Gosier
X-WR-CALDESC: Dans le cadre de ses actions en faveur de l’insertion professionnelle\, la Ville du Gosier\, en partenariat avec France Travail et la Mission Locale\, organise des ateliers d’insertion destinés aux demandeurs d’emploi souhaitant renforcer leurs compétences pour postuler sur les offres proposées sur le marché du travail.    Gratuits et ouverts à tous\, ces ateliers se tiendront à la Médiathèque Raoul Georges Nicolo  et sont organisés en deux sessions distinctes : l’une consacrée à la rédaction de (…) 
X-WR-RELCALID:actualites/communiques-info-pratique/article/ateliers-d-insertion-professionnelle-a-la-mediatheque-du-gosier
BEGIN:VEVENT
SUMMARY:Atelier - Préparation aux entretiens d’embauche
UID:evenement2663 @ https://www.villedugosier.fr
DTSTAMP:20000101T040000Z
DTSTART:20260916T123000Z
DTEND:20260916T163000Z
CREATED:20000101T040000Z
LAST-MODIFIED:20260306T175850Z 
LOCATION:Médiathèque Raoul Georges Nicolo
DESCRIPTION:Opération pilotée par le service Insertion\, Direction de la Vie Locale\, en collaboration avec France Travail et la Mission Locale
CATEGORIES:Ateliers d’insertion professionnelle à la Médiathèque du Gosier
URL:https://www.villedugosier.fr/actualites/communiques-info-pratique/article/ateliers-d-insertion-professionnelle-a-la-mediatheque-du-gosier?id_evenement=2663

STATUS:CONFIRMED
END:VEVENT
END:VCALENDAR

