BEGIN:VCALENDAR
VERSION:2.0
X-WR-TIMEZONE:America/Guadeloupe
CALSCALE:GREGORIAN
PRODID:-//IPEOS/Calendar//NONSGML v1.0//FR
X-WR-CALNAME;VALUE=TEXT:Ville du Gosier - Guadeloupe - Les plantes médicinales en débat avec Mieux vivre à Mathurin
X-WR-CALDESC: L’association Mieux vivre à Mathurin organise une rencontre autour des plantes médicinales animée  Yvon Joseph\, expert en la matière\, le samedi 25 avril 2026 à 9h30 au local de l’association à Mathurin.  Le thème de cette rencontre : Si bato pa rantré\, ka nou ka fè pou santé an nou ?    Au cours de cette rencontre\, l’auteur Yvon Joseph propose une séance de dédicace de son ouvrage Les plantes de nos grand-mères\, comment mieux les identifier ?  Entrée gratuite Contact : 0690 91 03 21 - 0690 (…) 
X-WR-RELCALID:vivre-au-gosier/vie-associative-et-des-quartiers/actualites-associatives/article/9974
BEGIN:VEVENT
SUMMARY:Les plantes médicinales en débat avec Mieux vivre à Mathurin
UID:evenement2702 @ https://www.villedugosier.fr
DTSTAMP:20260420T155213Z
DTSTART:20260425T133000Z
DTEND:20260425T153000Z
CREATED:20260420T155213Z
LAST-MODIFIED:20260420T222349Z 
LOCATION:Local de l'association Mieux vivre à Mathurin\, Gosier
DESCRIPTION:L’association Mieux vivre à Mathurin organise une rencontre autour des plantes médicinales animée Yvon Joseph\, expert en la matière\, le samedi 25 avril 2026 à 9h30 au local de l’association à Mathurin. Le thème de cette rencontre : Si bato pa rantré\, ka nou ka fè pou santé an nou ? Au cours de cette rencontre\, l’auteur Yvon Joseph propose une séance de dédicace de son ouvrage Les plantes de nos grand-mères\, comment mieux les identifier ? Entrée gratuite Contact : 0690 91 03 21 - 0690 63 03 26 Géolocalisation : https://waze.com/ul/hdduk2ehex
CATEGORIES:Les plantes médicinales en débat avec Mieux vivre à Mathurin
URL:https://www.villedugosier.fr/vivre-au-gosier/vie-associative-et-des-quartiers/actualites-associatives/article/9974?id_evenement=2702

STATUS:CONFIRMED
END:VEVENT
END:VCALENDAR

