BEGIN:VCALENDAR
VERSION:2.0
X-WR-TIMEZONE:America/Guadeloupe
CALSCALE:GREGORIAN
PRODID:-//IPEOS/Calendar//NONSGML v1.0//FR
X-WR-CALNAME;VALUE=TEXT:Ville du Gosier - Guadeloupe - La déchèterie mobile du SINNOVAL s’installe au Gosier
X-WR-CALDESC: Tous les 15 jours\, le samedi de 7h à 13h\, la déchèterie mobile du SINNOVAL s’installe sur le parking du Palais des Sports de la ville du Gosier et vous donne rendez-vous pour y déposer vos déchets.    Un large éventail de déchets peut être amené :  Un objet encombrant à évacuer ?  Des appareils hors d’usage ?  Mobiliers DEE (Déchets d’Équipements Électriques et Électroniques) Ferrailles Encombrants Déchets verts Piles Lampes Huiles alimentaires   C’est le moment de vous débarrasser de vos (…) 
X-WR-RELCALID:services-demarches/les-services-publics-non-municipaux/sinnoval-syndicat-charge-de-la-gestion-des-dechets/article/la-decheterie-mobile-du-sinnoval-s-installe-au-gosier-8530
BEGIN:VEVENT
SUMMARY:La déchèterie mobile du SINNOVAL s'installe au Gosier
UID:evenement2707 @ https://www.villedugosier.fr
DTSTAMP:20000101T040000Z
DTSTART:20260620T110000Z
DTEND:20260620T170000Z
CREATED:20000101T040000Z
LAST-MODIFIED:20260422T155331Z 
LOCATION:Parking du Palais des Sports et de la Culture\, Bas-du-Fort\, Le Gosier
DESCRIPTION:Tous les 15 jours\, le samedi de 7h à 13h\, la déchèterie mobile du SINNOVAL s’installe sur le parking du Palais des Sports de la ville du Gosier et vous donne rendez-vous pour y déposer vos déchets. Un large éventail de déchets peut être amené : Un objet encombrant à évacuer ? Des appareils hors d’usage ? Mobiliers DEE (Déchets d’Équipements Électriques et Électroniques) Ferrailles Encombrants Déchets verts Piles Lampes Huiles alimentaires C’est le moment de vous débarrasser de vos encombrants de manière responsable et de faire un geste simple pour préserver notre environnement.
CATEGORIES:La déchèterie mobile du SINNOVAL s'installe au Gosier
URL:https://www.villedugosier.fr/services-demarches/les-services-publics-non-municipaux/sinnoval-syndicat-charge-de-la-gestion-des-dechets/article/la-decheterie-mobile-du-sinnoval-s-installe-au-gosier-8530?id_evenement=2707

STATUS:CONFIRMED
END:VEVENT
END:VCALENDAR

