BEGIN:VCALENDAR
VERSION:2.0
X-WR-TIMEZONE:America/Guadeloupe
CALSCALE:GREGORIAN
PRODID:-//IPEOS/Calendar//NONSGML v1.0//FR
X-WR-CALNAME;VALUE=TEXT:Ville du Gosier - Guadeloupe - Défilé couture avec l’association des habitants de Labrousse
X-WR-CALDESC: L’association des habitants de Labrousse vous invite à découvrir son défilé couture\, imaginé et réalisé par les doigts de fée des adhérents de l’atelier couture.    Ce défilé se tiendra le dimanche 26 avril 2026 à partir de 16h au local de l’association.  Un moment convivial\, créatif et plein de surprises vous y attend.   Entrée libre et gratuite 
X-WR-RELCALID:vivre-au-gosier/vie-associative-et-des-quartiers/actualites-associatives/article/9978
BEGIN:VEVENT
SUMMARY:Défilé couture avec l’association des habitants de Labrousse
UID:evenement2708 @ https://www.villedugosier.fr
DTSTAMP:20260422T120205Z
DTSTART:20260426T200000Z
DTEND:20260426T220000Z
CREATED:20260422T120205Z
LAST-MODIFIED:20260422T160205Z 
LOCATION:Local de l'association des habitants de Labrousse\, Gosier
DESCRIPTION:L’association des habitants de Labrousse vous invite à découvrir son défilé couture\, imaginé et réalisé par les doigts de fée des adhérents de l’atelier couture. Ce défilé se tiendra le dimanche 26 avril 2026 à partir de 16h au local de l’association. Un moment convivial\, créatif et plein de surprises vous y attend. Entrée libre et gratuite
CATEGORIES:Défilé couture avec l’association des habitants de Labrousse
URL:https://www.villedugosier.fr/vivre-au-gosier/vie-associative-et-des-quartiers/actualites-associatives/article/9978?id_evenement=2708

STATUS:CONFIRMED
END:VEVENT
END:VCALENDAR

