BEGIN:VCALENDAR
VERSION:2.0
X-WR-TIMEZONE:America/Guadeloupe
CALSCALE:GREGORIAN
PRODID:-//IPEOS/Calendar//NONSGML v1.0//FR
X-WR-CALNAME;VALUE=TEXT:Ville du Gosier - Guadeloupe - Grillade Party avec L’association Bank’s
X-WR-CALDESC: L’association Bank’s vous invite à sa Grillade Party\, vendredi 8 mai à partir de 12h au local situé sur la plage de Petit-Havre.    Venez profiter d’un moment convivial autour d’un délicieux menu varié :  Entrées variées Plats chauds : poulet\, poisson\, ribs grillés\, court-bouillon de poisson Accompagnements : riz bank’s\, riz et haricots rouges Dessert : glace   Ambiance garantie\, bonne humeur et bonne cuisine au rendez-vous !   Contacts : 0690 43 66 25 - 0690 49 76 45 - 0590 85 84 98 
X-WR-RELCALID:vivre-au-gosier/vie-associative-et-des-quartiers/actualites-associatives/article/9984
BEGIN:VEVENT
SUMMARY:Grillade Party avec l’association Bank’s
UID:evenement2709 @ https://www.villedugosier.fr
DTSTAMP:20260424T153201Z
DTSTART:20260508T160000Z
DTEND:20260508T190000Z
CREATED:20260424T153201Z
LAST-MODIFIED:20260424T193201Z 
LOCATION:Local de l'association\, plage de Petit-Havre\, Le Gosier
DESCRIPTION:L’association Bank’s vous invite à sa Grillade Party\, vendredi 8 mai à partir de 12h au local situé sur la plage de Petit-Havre. Venez profiter d’un moment convivial autour d’un délicieux menu varié : Entrées variées Plats chauds : poulet\, poisson\, ribs grillés\, court-bouillon de poisson Accompagnements : riz bank’s\, riz et haricots rouges Dessert : glace Ambiance garantie\, bonne humeur et bonne cuisine au rendez-vous ! Contacts : 0690 43 66 25 - 0690 49 76 45 - 0590 85 84 98
CATEGORIES:Grillade Party avec L’association Bank’s
URL:https://www.villedugosier.fr/vivre-au-gosier/vie-associative-et-des-quartiers/actualites-associatives/article/9984?id_evenement=2709

STATUS:CONFIRMED
END:VEVENT
END:VCALENDAR

